BEGIN:VCALENDAR
PRODID:NingEventWidget-v1
VERSION:2.0
METHOD:PUBLISH
BEGIN:VTIMEZONE
TZID:America/New_York
X-LIC-LOCATION:America/New_York
BEGIN:DAYLIGHT
TZOFFSETFROM:-0500
TZOFFSETTO:-0400
TZNAME:EDT
DTSTART:19700308T020000
RRULE:FREQ=YEARLY;BYMONTH=3;BYDAY=2SU
END:DAYLIGHT
BEGIN:STANDARD
TZOFFSETFROM:-0400
TZOFFSETTO:-0500
TZNAME:EST
DTSTART:19701101T020000
RRULE:FREQ=YEARLY;BYMONTH=11;BYDAY=1SU
END:STANDARD
END:VTIMEZONE
BEGIN:VEVENT
UID:5283893:Event:335118
DTSTAMP:20260423T181702Z
SUMMARY:Facebook Recruiting: How to Locate Hard-To-Find Dealership Tal
 ent
DESCRIPTION:Fill your most difficult dealership positions, even Servic
 e Technicians, without spending a dime.\nFree Webinar Thursday Novembe
 r 15, 2012, 10:00am Mountain Time\nÂ Everyone talks about recruiting t
 hrough social media, but how do you really take action? In this webina
 r Meredith Soleau, Human Resources Director of the Ed Schmidt Auto Gro
 up, will cover the following topics:\n\nUse Facebook as a sourcing too
 l to find passive applicants that wouldnâ€™t otherwise apply.\nTake Fa
 cebook recruiting even deeper, performing Facebook key word searches, 
 within BranchOut (a Facebook recruiting application).\nLearn how to cl
 ose passive Facebook leads and get them into your dealership for inter
 views.\n\nPresented by:Â MeredithÂ Soleau,Â Human Resources Director,Â
  Ed Schmidt Auto Group\n\nMeredith Soleau is the Human Resources Direc
 tor of the Ed Schmidt Auto Group (Perrysburg, Ohio), and she is an exp
 ert on all things social media. She holds a Bachelor of Science from t
 he University of Toledo with a Major in Human Resources Management and
  a Minor in Psychology. With absolutely zero HR budget after the fallo
 ut of the automotive industry in 2009, Meredith had to learn to be res
 ourceful. Meredith turned to Facebook and Twitter to recruit top talen
 t for one of the least attractive industries in the nation. Besides ma
 naging a car dealership, Meredith is a Staff Writer for Workforce Maga
 zineâ€™s Fistful of Talent, Relationships Editor for Curvy Girl Guide,
  and runs a popular humor blog. She has been featured on ABCâ€™s 20/20
 , Rebecca Regnierâ€™s Full Plate, The Toledo Blade, 13 ABCâ€™s People,
  Places, and Things, and she speaks to audiences across the nation abo
 ut social recruiting. She has managed large social media campaigns for
  brands such as Landsâ€™ End, Schick, K-Y Brand, Spectrum, Care.com, C
 allaway Golf, Tide, Hewlett Packard, Shoedazzle, Nintendo, and Rumor H
 otel Las Vegas. Her Klout score is a 72 (and thatâ€™s a really BIG dea
 l).\n\nFor more information visit https://www.dealerelite.net/events/f
 acebook-recruiting-how-to-locate-hard-to-find-dealership-talent
DTSTART;TZID=America/New_York:20121115T090000
DTEND;TZID=America/New_York:20121115T100000
CATEGORIES:webinar
LOCATION:http://www.dealerwebinars.com
WEBSITE:http://www.dealerwebinars.com
URL:http://www.dealerwebinars.com
CONTACT:
ORGANIZER;CN="Patric Timmermans":https://www.dealerelite.net/profile/P
 atricTimmermans
ATTACH;FMTTYPE="image/jpeg":http://storage.ning.com/topology/rest/1.0/
 file/get/2632961213?profile=original
ATTENDEE;ROLE=REQ-PARTICIPANT;PARTSTAT=ACCEPTED;RSVP=TRUE;CN="Patric T
 immermans":https://www.dealerelite.net/profile/PatricTimmermans
END:VEVENT
END:VCALENDAR
