BEGIN:VCALENDAR
PRODID:NingEventWidget-v1
VERSION:2.0
METHOD:PUBLISH
BEGIN:VTIMEZONE
TZID:America/New_York
X-LIC-LOCATION:America/New_York
BEGIN:DAYLIGHT
TZOFFSETFROM:-0500
TZOFFSETTO:-0400
TZNAME:EDT
DTSTART:19700308T020000
RRULE:FREQ=YEARLY;BYMONTH=3;BYDAY=2SU
END:DAYLIGHT
BEGIN:STANDARD
TZOFFSETFROM:-0400
TZOFFSETTO:-0500
TZNAME:EST
DTSTART:19701101T020000
RRULE:FREQ=YEARLY;BYMONTH=11;BYDAY=1SU
END:STANDARD
END:VTIMEZONE
BEGIN:VEVENT
UID:5283893:Event:317546
DTSTAMP:20260423T084919Z
SUMMARY:Facebook - YouTube - Pinterest - and the Rubik's Cube presente
 d by Jim Ziegler
DESCRIPTION:...everybody plays with them but very few ever figure it o
 ut\nFree Webinar Wednesday October 10, 9am PT / 10am MT / 11am CT / no
 on ET\nFasten your chinstraps and check the security of your seat belt
 s. Prepare yourself to experience the outrageous mind of Jim Ziegler a
 s he takes you on a tour of his favorite social media. With Ziegler's 
 unique brand of social interaction he'll show you how to leverage rela
 tionships for immediate sales and profits. It's all about \"Pull Marke
 ting\" and turning online acquaintances into \"Raving Fans\".\nPresent
 ed by: Jim Ziegler, President & CEO, Ziegler SuperSystems, Inc.\n\
 nFor 37 years, Jim Ziegler has been a recognized automotive industry w
 riter, magazine columnist, professional speaker, and super performer. 
 Jim has worked with over 15,000 dealerships nationwide and 100,000 dea
 lers, managers, and executives have attended his live seminars. Jim is
  a professional member of the National Speaker's Association and has b
 een rated as a top ten workshop speaker at 12 National NADA Convention
 s. You can learn more about Jim at www.zieglersupersystems.com\n\nFor 
 more information visit https://www.dealerelite.net/events/facebook-you
 tube-pinterest-and-the-rubik-s-cube-presented-by-jim
DTSTART;TZID=America/New_York:20121010T090000
DTEND;TZID=America/New_York:20121010T100000
CATEGORIES:webinar
LOCATION:http://www.dealerwebinars.com
WEBSITE:http://www.dealerwebinars.com
URL:http://www.dealerwebinars.com
CONTACT:
ORGANIZER;CN="Patric Timmermans":https://www.dealerelite.net/profile/P
 atricTimmermans
ATTACH;FMTTYPE="image/jpeg":http://storage.ning.com/topology/rest/1.0/
 file/get/2632955746?profile=original
ATTENDEE;ROLE=REQ-PARTICIPANT;PARTSTAT=ACCEPTED;RSVP=TRUE;CN="Rebecca 
 Williamson":https://www.dealerelite.net/profile/RebeccaWilliamson
ATTENDEE;ROLE=REQ-PARTICIPANT;PARTSTAT=ACCEPTED;RSVP=TRUE;CN="Patric T
 immermans":https://www.dealerelite.net/profile/PatricTimmermans
ATTENDEE;ROLE=REQ-PARTICIPANT;PARTSTAT=TENTATIVE;RSVP=TRUE;CN="Robert 
 Harington":https://www.dealerelite.net/profile/RobertHarington
END:VEVENT
END:VCALENDAR
