BEGIN:VCALENDAR
PRODID:NingEventWidget-v1
VERSION:2.0
METHOD:PUBLISH
BEGIN:VTIMEZONE
TZID:America/New_York
X-LIC-LOCATION:America/New_York
BEGIN:DAYLIGHT
TZOFFSETFROM:-0500
TZOFFSETTO:-0400
TZNAME:EDT
DTSTART:19700308T020000
RRULE:FREQ=YEARLY;BYMONTH=3;BYDAY=2SU
END:DAYLIGHT
BEGIN:STANDARD
TZOFFSETFROM:-0400
TZOFFSETTO:-0500
TZNAME:EST
DTSTART:19701101T020000
RRULE:FREQ=YEARLY;BYMONTH=11;BYDAY=1SU
END:STANDARD
END:VTIMEZONE
BEGIN:VEVENT
UID:5283893:Event:360067
DTSTAMP:20260423T124006Z
SUMMARY:Finding $500,000 of Additional Gross Profit in Your Used Car D
 epartment
DESCRIPTION: Enroll in a Used Car University class coming to a city n
 ear you. Used Car University is an education and training company and 
 the respected resource of dealer programs to Master the Science of Sou
 rcing, Reconditioning, Marketing, Selling and Financing Used Vehicles.
  \nThe class is split into 7 sections with networking breaks set up i
 n between. The sections are:\n\n-The Right Stuff: Does Your Inventory 
 Match Your Customer Base\n\n-Sourcing: Making the Online Auction Proce
 ss Work for You\n\n-AM Digital Marketing: Low Cost Options that Work\n
 \n-Lunch Session – Structuring a Win-Win-Win Deal\n\n-Differentiatin
 g Your Used Vehicle From Your Competitor\n\n-Digital Marketing: Pay Pe
 r Click Marketing. How to Turn “Voodoo Magic” into Science that De
 livers Buyers\n\n-Reconditioning: Deciding Where to Draw the Line\n\n\
 nFor further questions please go to: www.usedcaruniversity.com\n\nFor
  more information visit https://www.dealerelite.net/events/finding-500
 -000-of-additional-gross-profit-in-your-used-car-1
DTSTART;TZID=America/New_York:20130502T080000
DTEND;TZID=America/New_York:20130502T170000
CATEGORIES:workshop
LOCATION:Boston, MA
WEBSITE:
URL:
CONTACT:877.811.8107
ORGANIZER:Harlene Doane
ATTACH;FMTTYPE="image/jpeg":http://storage.ning.com/topology/rest/1.0/
 file/get/2632970752?profile=original
ATTENDEE;ROLE=REQ-PARTICIPANT;PARTSTAT=ACCEPTED;RSVP=TRUE;CN=Brett:htt
 ps://www.dealerelite.net/profile/Brett
END:VEVENT
END:VCALENDAR
