BEGIN:VCALENDAR
PRODID:NingEventWidget-v1
VERSION:2.0
METHOD:PUBLISH
BEGIN:VTIMEZONE
TZID:America/New_York
X-LIC-LOCATION:America/New_York
BEGIN:DAYLIGHT
TZOFFSETFROM:-0500
TZOFFSETTO:-0400
TZNAME:EDT
DTSTART:19700308T020000
RRULE:FREQ=YEARLY;BYMONTH=3;BYDAY=2SU
END:DAYLIGHT
BEGIN:STANDARD
TZOFFSETFROM:-0400
TZOFFSETTO:-0500
TZNAME:EST
DTSTART:19701101T020000
RRULE:FREQ=YEARLY;BYMONTH=11;BYDAY=1SU
END:STANDARD
END:VTIMEZONE
BEGIN:VEVENT
UID:5283893:Event:360109
DTSTAMP:20260424T090502Z
SUMMARY:Fraud and Embezzlement: Your Dealership is at Risk
DESCRIPTION:You may think that it can't happen at your store. Or that 
 it won't go far if it does. But every year, dealers find themselves vi
 ctimized by trusted employees. More than half of all fraud and embezzl
 ement cases nationwide involve employees who have worked for an organ
 ization for five years*. And half involve schemes that lasted 18 mont
 hs or more before being detected*.\nThis webinar will provide an insid
 e look at actual cases. Attendees will be taken step-by-step through t
 he process -- from the earliest signs to court convictions. You'll lea
 ve with tips that will help you develop an effective fraud-prevention
  strategy.\nSpend sixty minutes with Aaron Jacoby, chair of Arent Fox'
 s automotive industry practice group, selected as one of the \"Top 5 P
 ractices\" in California, and Ron Sompels of Crowe Horwath Retail Deal
 er Group, who personally works in delivering assurance, risk, due dili
 gence and performance consulting services to dealerships across the co
 untry. Both experts will be available to answer your questions during 
 the session.\nYou will also learn:\n- The nature of fraud and embezzl
 ement in automotive retailing: Why it happens, who is doing it, what d
 epartments are typically involved, and how it's being discovered.\n- 
 Priceless prevention and detection techniques. They start with knowing
  that four out of five asset misappropriations involve CASH*. Learn wh
 at steps to take to protect your business today, and better prepare yo
 ur dealership for the future.\n\nSign up now for this Automotive News 
 webinar to learn how to stop fraud that may already be happening in yo
 ur dealership! \n\n*Source: ACFE's 2012 Report to the Nations on Occu
 pational Fraud and Abuse\n\nFor more information visit https://www.dea
 lerelite.net/events/fraud-and-embezzlement-your-dealership-is-at-risk
DTSTART;TZID=America/New_York:20130404T140000
DTEND;TZID=America/New_York:20130404T150000
CATEGORIES:online, training
LOCATION:Online
WEBSITE:https://home.autonews.com/clickshare/eventPurchase.do?CSProduc
 t=autonews-event&CSEventId=6&csptrack=de
URL:https://home.autonews.com/clickshare/eventPurchase.do?CSProduct=au
 tonews-event&CSEventId=6&csptrack=de
CONTACT:
ORGANIZER;CN="Sarah Gorajek":https://www.dealerelite.net/profile/Sarah
 Gorajek
ATTACH;FMTTYPE="image/jpeg":http://storage.ning.com/topology/rest/1.0/
 file/get/2632953427?profile=original
ATTENDEE;ROLE=REQ-PARTICIPANT;PARTSTAT=ACCEPTED;RSVP=TRUE;CN="Sarah Go
 rajek":https://www.dealerelite.net/profile/SarahGorajek
END:VEVENT
END:VCALENDAR
