BEGIN:VCALENDAR
PRODID:NingEventWidget-v1
VERSION:2.0
METHOD:PUBLISH
BEGIN:VTIMEZONE
TZID:America/New_York
X-LIC-LOCATION:America/New_York
BEGIN:DAYLIGHT
TZOFFSETFROM:-0500
TZOFFSETTO:-0400
TZNAME:EDT
DTSTART:19700308T020000
RRULE:FREQ=YEARLY;BYMONTH=3;BYDAY=2SU
END:DAYLIGHT
BEGIN:STANDARD
TZOFFSETFROM:-0400
TZOFFSETTO:-0500
TZNAME:EST
DTSTART:19701101T020000
RRULE:FREQ=YEARLY;BYMONTH=11;BYDAY=1SU
END:STANDARD
END:VTIMEZONE
BEGIN:VEVENT
UID:5283893:Event:64924
DTSTAMP:20260423T070508Z
SUMMARY:Free Email Campaign
DESCRIPTION:We are giving away 2 FREE Email Campaigns! Each campaign w
 ill consist of 500,000 emails to your local market. We will personally
  design up to 10 different emails to go out to up to 50,000 people wit
 hin your local area. All you have to do is fill out the entry form and
  your entered!! Be sure and read above all the ways to get your name i
 n the drawings multiple times! The more times your name is in the hat,
  the better chance you have to win!! OK all that's left is for you to 
 enter, follow the link below...GOOD LUCK!!\n \nClick Here to Enter\n\
 nFor more information visit https://www.dealerelite.net/events/free-em
 ail-campaign
DTSTART;TZID=America/New_York:20110304T180000
DTEND;TZID=America/New_York:20110331T190000
CATEGORIES:give, away
LOCATION:United States Wide
WEBSITE:http://www.patrioticmarketing.com/Contest.html
URL:http://www.patrioticmarketing.com/Contest.html
CONTACT:361-676-9166
ORGANIZER;CN="Brandon D Cauble":https://www.dealerelite.net/profile/Br
 andonDCauble
ATTACH;FMTTYPE="image/jpeg":http://storage.ning.com/topology/rest/1.0/
 file/get/2632912823?profile=original
ATTENDEE;ROLE=REQ-PARTICIPANT;PARTSTAT=ACCEPTED;RSVP=TRUE;CN="MANNY LU
 NA":https://www.dealerelite.net/profile/manny
ATTENDEE;ROLE=REQ-PARTICIPANT;PARTSTAT=ACCEPTED;RSVP=TRUE;CN="Brandon 
 D Cauble":https://www.dealerelite.net/profile/BrandonDCauble
END:VEVENT
END:VCALENDAR
