BEGIN:VCALENDAR
PRODID:NingEventWidget-v1
VERSION:2.0
METHOD:PUBLISH
BEGIN:VTIMEZONE
TZID:America/New_York
X-LIC-LOCATION:America/New_York
BEGIN:DAYLIGHT
TZOFFSETFROM:-0500
TZOFFSETTO:-0400
TZNAME:EDT
DTSTART:19700308T020000
RRULE:FREQ=YEARLY;BYMONTH=3;BYDAY=2SU
END:DAYLIGHT
BEGIN:STANDARD
TZOFFSETFROM:-0400
TZOFFSETTO:-0500
TZNAME:EST
DTSTART:19701101T020000
RRULE:FREQ=YEARLY;BYMONTH=11;BYDAY=1SU
END:STANDARD
END:VTIMEZONE
BEGIN:VEVENT
UID:5283893:Event:493022
DTSTAMP:20260424T165241Z
SUMMARY:FREE WEBINAR: 10 Awesome Customer Experience Strategies You Sh
 ould be Using
DESCRIPTION:You may think your dealership has a product or price advan
 tage…but beware! They can be easily duplicated. However, a STRONG CU
 STOMER SERVICE CULTURE CAN’T BE COPIED. Furthermore, almost all cons
 umers agree — IT IS THE CUSTOMER EXPERIENCE THAT IS THE ONLY TRUE DI
 FFERENTIATOR.\nWhen it comes to learning about innovative customer ser
 vice strategies that sell more cars, we called in Automotive Rockstar 
 Bobbie Herron to show us the way!\nIn this extraordinary and fast-pace
 d 1 hour webinar, Bobbie will share 10 immediately implementable custo
 mer experience strategies to boost sales today! Attendees of this elec
 tric presentation will learn how to “Wow!” customers and create a 
 more effective road map to the sale. And best of all – her suggestio
 ns won’t cost you a dime!\nShe will discuss 10 FREE simple, effectiv
 e, easy-to-implement strategies that can be added to your current proc
 ess that are proven to:\nTurn More “Leads” (Opportunities) into Ap
 pointments Make More Appointments into Showroom Visits\nConvert More S
 howroom Visits into Sales\nAnd Greatly Improve Customer Retention & Re
 ferrals\nThis presentation is only for those ready to dominate their m
 arket, close more leads and reap the huge benefits that await. All oth
 ers need not apply.\nDon’t miss this chance to invest in your own su
 ccess and hear from one of the brightest stars in the Automotive Indus
 try. If you are ready to learn 10 Awesome Customer Experience Strategi
 es You Should be Using, then you simply can’t afford to miss this we
 binar! Register now!\nPRESENTER: Bobbie Herron is the Director of Deal
 er Marketing for ZMOT Auto and is responsible for the creation and imp
 lementation of Digital Marketing strategies and conversion best practi
 ces for dealer clients. Utilizing market information and cutting edge 
 technology to increase consumer engagement and create targeted in-mark
 et buyer opportunities, ZMOT is best known for providing unparalleled 
 tailor-designed digital sales solutions, 1:1 sales attribution and reg
 ional exclusivity for automotive dealerships within the United Stated,
  Canada and Mexico. Bobbie had spent over 16 years enjoying a diverse 
 automotive career and various responsibilities within a retail dealers
 hip, including General Manager, before coming to ZMOT. She is a very p
 opular presenter at numerous conferences including Digital Dealer, Wom
 en in Automotive and Driving Sales, a guest lecturer at Northwood Univ
 ersity, and a named winner of the 2015 Automotive News “40 Under 40
 . Bobbie can be reached at BHerron@ZMoTAuto.com.\n\nFor more informa
 tion visit https://www.dealerelite.net/events/free-webinar-10-awesome-
 customer-experience-strategies-you-should
DTSTART;TZID=America/New_York:20170126T120000
DTEND;TZID=America/New_York:20170126T130000
CATEGORIES:webinar, free
LOCATION:http://www.dealeron.com/webinar/10-awesome-customer-experienc
 e-strategies-using/
WEBSITE:http://www.dealeron.com/webinar/10-awesome-customer-experience
 -strategies-using/
URL:http://www.dealeron.com/webinar/10-awesome-customer-experience-str
 ategies-using/
CONTACT:
ORGANIZER;CN="Eliana Raggio":https://www.dealerelite.net/profile/Elian
 aRaggio
ATTACH;FMTTYPE="image/jpeg":http://storage.ning.com/topology/rest/1.0/
 file/get/2633028568?profile=original
ATTENDEE;ROLE=REQ-PARTICIPANT;PARTSTAT=ACCEPTED;RSVP=TRUE;CN="Eliana R
 aggio":https://www.dealerelite.net/profile/ElianaRaggio
END:VEVENT
END:VCALENDAR
