BEGIN:VCALENDAR
PRODID:NingEventWidget-v1
VERSION:2.0
METHOD:PUBLISH
BEGIN:VTIMEZONE
TZID:America/New_York
X-LIC-LOCATION:America/New_York
BEGIN:DAYLIGHT
TZOFFSETFROM:-0500
TZOFFSETTO:-0400
TZNAME:EDT
DTSTART:19700308T020000
RRULE:FREQ=YEARLY;BYMONTH=3;BYDAY=2SU
END:DAYLIGHT
BEGIN:STANDARD
TZOFFSETFROM:-0400
TZOFFSETTO:-0500
TZNAME:EST
DTSTART:19701101T020000
RRULE:FREQ=YEARLY;BYMONTH=11;BYDAY=1SU
END:STANDARD
END:VTIMEZONE
BEGIN:VEVENT
UID:5283893:Event:499778
DTSTAMP:20260422T132535Z
SUMMARY:FREE WEBINAR:: 10 Proven Steps to Dominate Your Next Sales Eve
 nt
DESCRIPTION:Practical Tools to Get Your Unfair Share of Sales\nIt is b
 elieved that the first car dealership opened in June of 1898 in Readin
 g, Pennsylvania…and we’re pretty sure that the first big car sales
  event was held in July.\nYet even after all this time and all of the 
 technological advancements, every dealership sales event still brings 
 the same complexities. Dealers have to: promote the event, find in-ma
 rket shoppers, translate efforts into sales, and then measure the succ
 ess of the event so they can soon do it again with even better results
 .\nDO YOU WANT TO ENSURE YOUR NEXT SALES EVENT IS A SMASHING SUCCESS?\
 nIn this 1 hour webinar, Scott Empringham is going to share a proven 
 road map to help youDominate Your Next Sales Event. He put his comp
 rehensive step-by-step plan out there to be scrutinized by an automo
 tive veteran Amy Fulford, in charge of marketing a dealer group. He wi
 ll detail exactly what this dealer group did, the challenges they over
 came and the results they received. In the end, attendees of this jam
 -packed presentation will walk away with an arsenal of tools and kno
 w-how, ready to slay the next sales event!\nIf you want to Get Your 
 Unfair Share of Sales and learn The 10 Proven Steps to Dominate You
 r Next Sales Event, then you simply can’t afford to miss this prese
 ntation! Register Now!\nPRESENTER: SCOTT EMPRINGHAM is the owner and 
 CEO of FlashPoint, a social-first digital agency that boasts over $1 b
 illion of cars sold via social (and counting). For more than 20 years 
 his passion has been helping car companies and their retailers break t
 hrough the clutter using digital marketing and social media to drive r
 esults in the areas that matter most – Sales and Service. Scott has 
 worked with nearly every major OEM and well over 2,000 Dealers, both i
 n the U.S. and overseas. Flash Point has garnered tremendous recogniti
 on for their unprecedented social media innovation and technology incl
 uding numerous awards such as National Telly Awards and Event Tech Awa
 rds. With prestigious accolades like “Best Use of Technology” and 
 “Best Use of Facebook”, it’s no wonder that Scott has become an 
 in-demand speaker at some of our industry’s biggest conferences such
  as Digital Dealer, Brand Innovators and RVDA. He can be reached at s
 cott.empringham@fpcdigital.com.\nJoining Scott to provide dealership i
 nsights and real-world results is AMY FULFORD, Marketing Director for
  the Home Run Auto Group. For 23 years, Amy has joined forces with aut
 omotive dealers from all tiers and levels to stay relevant in advertis
 ing, media and marketing. Her goal is to open new avenues and opportun
 ities for incremental sales and create connections with consumers that
  build long-term relationships. Amy has worked and trained dealers wit
 h Buick, Cadillac, Ford, and Chevy on a regional level and now works w
 ith over 26 individual dealers as Partner of Moxie Marketing Club.\n\n
 For more information visit https://www.dealerelite.net/events/free-web
 inar-10-proven-steps-to-dominate-your-next-sales-event
DTSTART;TZID=America/New_York:20170525T120000
DTEND;TZID=America/New_York:20170525T130000
CATEGORIES:webinar, free
LOCATION:http://www.dealeron.com/webinar/10-proven-steps-dominate-next
 -sales-event/
WEBSITE:http://www.dealeron.com/webinar/10-proven-steps-dominate-next-
 sales-event/
URL:http://www.dealeron.com/webinar/10-proven-steps-dominate-next-sale
 s-event/
CONTACT:
ORGANIZER;CN="Eliana Raggio":https://www.dealerelite.net/profile/Elian
 aRaggio
ATTACH;FMTTYPE="image/jpeg":http://storage.ning.com/topology/rest/1.0/
 file/get/2633035888?profile=original
ATTENDEE;ROLE=REQ-PARTICIPANT;PARTSTAT=ACCEPTED;RSVP=TRUE;CN="Eliana R
 aggio":https://www.dealerelite.net/profile/ElianaRaggio
END:VEVENT
END:VCALENDAR
