BEGIN:VCALENDAR
PRODID:NingEventWidget-v1
VERSION:2.0
METHOD:PUBLISH
BEGIN:VTIMEZONE
TZID:America/New_York
X-LIC-LOCATION:America/New_York
BEGIN:DAYLIGHT
TZOFFSETFROM:-0500
TZOFFSETTO:-0400
TZNAME:EDT
DTSTART:19700308T020000
RRULE:FREQ=YEARLY;BYMONTH=3;BYDAY=2SU
END:DAYLIGHT
BEGIN:STANDARD
TZOFFSETFROM:-0400
TZOFFSETTO:-0500
TZNAME:EST
DTSTART:19701101T020000
RRULE:FREQ=YEARLY;BYMONTH=11;BYDAY=1SU
END:STANDARD
END:VTIMEZONE
BEGIN:VEVENT
UID:5283893:Event:71608
DTSTAMP:20260422T065509Z
SUMMARY:FREE Webinar: 11 Ways Your Dealership Can Capitalize on Video 
 Content
DESCRIPTION:If done right, online videos can be a huge lead generator 
 for dealers.Â Â But thatâ€™s not all.Â Â Videos have become extremely 
 emphasized in any successful SEO strategy. Furthermore, adding video c
 ontent to your online marketing program will also personalize your Dea
 lership, provide entertainment for your viewers and grow your social m
 edia community.Â Â  This one-hour webinar will explore 11 different wa
 ys you can use and distribute your video content across the web to: â€
 ¢ increase your Social Media presence â€¢ up your SEO value â€¢ gain a
  more fervent following â€¢ grab more internet exposure â€¢ increase y
 our brand awareness. In this one-hour webinar, we will discuss: â€¢ ho
 w to make and launch a Social Media strategy that suits your dealershi
 p â€¢ Social Media time management â€¢ The rules of engagement â€¢ act
 ionable items to properly introduce your dealership into the Social Me
 dia world Presenter: Erin Ryan is a Social Media Specialists at TK and
  can be contacted via e-mail at eryan@tkcarsites.com. She has a keen u
 nderstanding of the power of Social Media for business and fervently s
 tays up-to-date with the Social Media Industry. Furthermore, Erin is a
  writer for many blogs and you can visit her blog at www.socialeyezer.
 com. Why register if you cannot make it this time: If you are unable t
 o attend the webinar at this time, please register anyway and you will
  be sent a link to a recording of the webinar along with the presentat
 ion slides. \nDate: Wednesday, April 13, 2011 Time: 9:00 AM Pacific 10
 :00 AM Mountain 11:00 AM Central 12:00 PM Eastern\n\nFor more informat
 ion visit https://www.dealerelite.net/events/free-webinar-11-ways-your
DTSTART;TZID=America/New_York:20110413T120000
DTEND;TZID=America/New_York:20110413T130000
CATEGORIES:free, webinar
LOCATION:https://www1.gotomeeting.com/register/665305209
WEBSITE:https://www1.gotomeeting.com/register/665305209
URL:https://www1.gotomeeting.com/register/665305209
CONTACT:
ORGANIZER;CN="Eliana Raggio":https://www.dealerelite.net/profile/Elian
 aRaggio
ATTACH;FMTTYPE="image/jpeg":http://storage.ning.com/topology/rest/1.0/
 file/get/2632912831?profile=original
ATTENDEE;ROLE=REQ-PARTICIPANT;PARTSTAT=ACCEPTED;RSVP=TRUE;CN="Eliana R
 aggio":https://www.dealerelite.net/profile/ElianaRaggio
END:VEVENT
END:VCALENDAR
