BEGIN:VCALENDAR
PRODID:NingEventWidget-v1
VERSION:2.0
METHOD:PUBLISH
BEGIN:VTIMEZONE
TZID:America/New_York
X-LIC-LOCATION:America/New_York
BEGIN:DAYLIGHT
TZOFFSETFROM:-0500
TZOFFSETTO:-0400
TZNAME:EDT
DTSTART:19700308T020000
RRULE:FREQ=YEARLY;BYMONTH=3;BYDAY=2SU
END:DAYLIGHT
BEGIN:STANDARD
TZOFFSETFROM:-0400
TZOFFSETTO:-0500
TZNAME:EST
DTSTART:19701101T020000
RRULE:FREQ=YEARLY;BYMONTH=11;BYDAY=1SU
END:STANDARD
END:VTIMEZONE
BEGIN:VEVENT
UID:5283893:Event:360044
DTSTAMP:20260423T022807Z
SUMMARY:FREE WEBINAR: 3 Ground Breaking Video Strategies Guaranteed to
  Sell Cars
DESCRIPTION:QUESTION: Which one of the following statements is true?\n
 A. Video is a game changer.\nB. Video can improve organic search resul
 ts.\nC. Video has the ability to drive website metrics.\nD. Video is 5
 3X more likely to appear on page one of a Google SERP.\nANSWER: All of
  the above!\nGoogle research shows that nearly 85% of all US Internet 
 users regularly watch online videos and that 53% of auto shoppers pric
 ed a vehicle after watching an online auto video.\nSo maybe the real q
 uestion is: How many more reasons do you need before you start taking 
 this whole online video thing seriously?\nThis free 1-hour webinar wit
 h Mr. Video himself, Phil Sura, will focus on specific video strategie
 s you can implement immediately to improve your organic search results
 , website conversion and video pre-roll effectiveness.\nIf you are fin
 ally ready to take advantage of everything that a strong online video 
 strategy can do for your dealership, or you simply want to upgrade you
 r current video strategies, then this is one webinar you can’t affor
 d to miss!\nPRESENTER: Phil Sura started the automotive division of Un
 ityWorks! Media, a web video company supporting over 1,500 dealerships
  and recognized as the video pioneer in the automotive space. Phil pre
 viously worked as a General Manager for one of the top 100 Ford dealer
 ships and spent 13 years with Pat Ryan & Associates. Spending the last
  10 years developing cutting-edge video strategies for dealers across 
 the country, Phil has earned the nickname Mr. Video from his peers. Fu
 rthermore, his “Best of the Best” panel discussions at the last 8 
 Digital Dealer conferences have garnered him extraordinary praise and 
 allowed the audience to hear from some of the top retail Internet prod
 ucers in the nation. Phil has also participated in regional training s
 essions across the country sponsored by Auto Trader, Car Soup and Auto
 Up Link and presented webinars for Digital Dealer and Automotive News.
  He is a regular contributor to Digital Dealer magazine and he can be 
 reached at phil@unityworksmedia.com.\n\nFor more information visit htt
 ps://www.dealerelite.net/events/free-webinar-3-ground-breaking-video-s
 trategies-guaranteed-to
DTSTART;TZID=America/New_York:20130516T120000
DTEND;TZID=America/New_York:20130516T130000
CATEGORIES:webinar, free
LOCATION:http://www.dealeron.com/webinar/events/3-ground-breaking-vide
 o-strategies-guaranteed-to-sell-cars/
WEBSITE:http://www.dealeron.com/webinar/events/3-ground-breaking-video
 -strategies-guaranteed-to-sell-cars/
URL:http://www.dealeron.com/webinar/events/3-ground-breaking-video-str
 ategies-guaranteed-to-sell-cars/
CONTACT:
ORGANIZER;CN="Eliana Raggio":https://www.dealerelite.net/profile/Elian
 aRaggio
ATTACH;FMTTYPE="image/jpeg":http://storage.ning.com/topology/rest/1.0/
 file/get/2632969699?profile=original
ATTENDEE;ROLE=REQ-PARTICIPANT;PARTSTAT=ACCEPTED;RSVP=TRUE;CN="Eliana R
 aggio":https://www.dealerelite.net/profile/ElianaRaggio
END:VEVENT
END:VCALENDAR
