BEGIN:VCALENDAR
PRODID:NingEventWidget-v1
VERSION:2.0
METHOD:PUBLISH
BEGIN:VTIMEZONE
TZID:America/New_York
X-LIC-LOCATION:America/New_York
BEGIN:DAYLIGHT
TZOFFSETFROM:-0500
TZOFFSETTO:-0400
TZNAME:EDT
DTSTART:19700308T020000
RRULE:FREQ=YEARLY;BYMONTH=3;BYDAY=2SU
END:DAYLIGHT
BEGIN:STANDARD
TZOFFSETFROM:-0400
TZOFFSETTO:-0500
TZNAME:EST
DTSTART:19701101T020000
RRULE:FREQ=YEARLY;BYMONTH=11;BYDAY=1SU
END:STANDARD
END:VTIMEZONE
BEGIN:VEVENT
UID:5283893:Event:500492
DTSTAMP:20260422T093917Z
SUMMARY:FREE WEBINAR: 5 Essential Steps to CRM Awesomeness!
DESCRIPTION:You’ve heard the constant complaints from your sales sta
 ff, BDC and managers. They all hate your CRM!\n“The CRM sucks, it do
 esn’t work, it’s stupid, it takes too long, it doesn’t help to s
 ell anything, it crashes, it’s confusing, it’s a waste of time”,
  etc. Any of these sound familiar?\nThe majority of the CRMs on the ma
 rket today have insanely progressive features and are designed to work
  as an invaluable assistant to those using them. But if your staff doe
 sn’t use the CRM properly or know how to make it work best alongside
  actual in-store processes — then you are all set up to fail.\nCRMs
  are an enormous investment. It’s time to MAKE YOUR CRM WORK FOR YO
 U…and GET HUGE RE$ULT$!\nWhen it comes to learning about the best C
 RM and lead handling strategies, we called in Automotive Rockstar Bobb
 ie Herron to show us the way! She has been “putting dreams in drivew
 ays” for over 15 years and is hired by dealerships every day to fix
  CRM issues as well as internal process failures.\nHer 5 Essential St
 eps to CRM Awesomeness will help you properly set up the best tool 
 inyour team’s arsenal and put your store in the best possible positi
 on to succeed. That means everything from basic settings to advanced
  processes and all that lives in between. During this incredible 1 ho
 ur webinar, attendees will learn:\n\nThe top mistakes within your CRM 
 that are costing you money\nHow to properly audit and fix your CRM\nSe
 tting up your CRM for success\nPositive team buy-in, comprehensive tra
 ining and proper utilization\nCRM refresh/cleanse/customization to you
 r store’s processes\nAnd So. Much. More.\n\nThis action packed “i
 n-your-face” webinar isn’t for the faint of heart nor is it somet
 hing to just pass on to someone who “handles” the CRM in your stor
 e.  This amazing presentation is most beneficial with attendance from
  the top down in your store and is guaranteed to give you strategies 
 that increase buy-in and proper utilization, and produce swift & drama
 tic results!\nThe kicker: everything can be quickly implemented in st
 ore for F-R-E-E!  You have nothing to lose and everything to gain!\nH
 ear from one of the brightest stars in the Automotive Industry. If you
  are ready to learn 5 Essential Steps to CRM Awesomeness, and make
  BIG $$$$$, then you simply can’t afford to miss this webinar! Regis
 ter now!\nPRESENTER: Bobbie Herron is the Director for ZMOT Auto and
  ZMOT Drive and is responsible for the creation and implementation of 
 Digital Marketing strategies and conversion best practices for dealer 
 clients. She is a very popular presenter at numerous conferences inclu
 ding Digital Dealer, Women in Automotive and Driving Sales, a guest le
 cturer at Northwood University, and a named winner of the 2015 Automo
 tive News “40 Under 40”. Bobbie can be reached at BHerron@ZMoTAu
 to.com.\n\nFor more information visit https://www.dealerelite.net/even
 ts/free-webinar-5-essential-steps-to-crm-awesomeness
DTSTART;TZID=America/New_York:20170608T120000
DTEND;TZID=America/New_York:20170608T130000
CATEGORIES:webinar, free
LOCATION:http://www.dealeron.com/webinar/5-essential-steps-crm-awesome
 ness/
WEBSITE:http://www.dealeron.com/webinar/5-essential-steps-crm-awesomen
 ess/
URL:http://www.dealeron.com/webinar/5-essential-steps-crm-awesomeness/
CONTACT:
ORGANIZER;CN="Eliana Raggio":https://www.dealerelite.net/profile/Elian
 aRaggio
ATTACH;FMTTYPE="image/jpeg":http://storage.ning.com/topology/rest/1.0/
 file/get/2633028568?profile=original
ATTENDEE;ROLE=REQ-PARTICIPANT;PARTSTAT=ACCEPTED;RSVP=TRUE;CN="Eliana R
 aggio":https://www.dealerelite.net/profile/ElianaRaggio
END:VEVENT
END:VCALENDAR
