BEGIN:VCALENDAR
PRODID:NingEventWidget-v1
VERSION:2.0
METHOD:PUBLISH
BEGIN:VTIMEZONE
TZID:America/New_York
X-LIC-LOCATION:America/New_York
BEGIN:DAYLIGHT
TZOFFSETFROM:-0500
TZOFFSETTO:-0400
TZNAME:EDT
DTSTART:19700308T020000
RRULE:FREQ=YEARLY;BYMONTH=3;BYDAY=2SU
END:DAYLIGHT
BEGIN:STANDARD
TZOFFSETFROM:-0400
TZOFFSETTO:-0500
TZNAME:EST
DTSTART:19701101T020000
RRULE:FREQ=YEARLY;BYMONTH=11;BYDAY=1SU
END:STANDARD
END:VTIMEZONE
BEGIN:VEVENT
UID:5283893:Event:493749
DTSTAMP:20260424T134434Z
SUMMARY:FREE WEBINAR: 5 Mistakes You’re Making on Instagram (…and 
 How to Fix Them!)
DESCRIPTION:No one likes to make mistakes. In Social Media, mistakes a
 re often embarrassing and, in business, are usually expensive as well.
  To help you avoid any missteps on the popular photo-sharing site Inst
 agram, we’ve asked Social Media Maven Kate Frost to show you 5 Mista
 kes You’re Making on Instagram (and How to Fix Them!)\nKate is an un
 disputed Instagram expert! She spent years unlocking the secrets and s
 hort cuts of Instagram. Using that knowledge, she then successfully gr
 ew the brand exposure and sales of many national and international com
 panies. Now, she’s ready to share the 5 common mistakes dealers are 
 making on Instagram and easy ways to fix them.\nIn this eye-opening 1 
 hour webinar, Kate will reveal 5 incredible tips to help you grow your
  Instagram audience, engagement and ROI. Attendees of this comprehensi
 ve presentation will also learn:\nThe difference between a business an
 d personal account How to check Instagram insights and use the informa
 tion\nWhen the best time to ‘Go Live’ and use Instagram stories\nW
 hy you should spend money advertising on Instagram in 2017\nWhether yo
 u’re about to get started on Instagram or looking to expand your soc
 ial strategy, if you are ready to learn 5 Mistakes You’re Making on 
 Instagram (and How to Fix Them!), then you can’t afford to miss this
  webinar! Register Now!\nPRESENTER: KATE FROST is the President of Kat
 e Frost, Inc., an award-winning Digital Marketing service provider whi
 ch helps clients improve their lead-handling processes and digital mar
 keting. Kate has an extensive background in automotive advertising wit
 h an emphasis on social media and brings a unique insight into the aut
 omotive digital marketing realm. During the last decade, she has condu
 cted hundreds of social media campaigns designed to brand businesses, 
 drive traffic and generate sales and service leads. In January 2015, s
 he launched Polished Digital, a digital marketing company focused on p
 roviding online strategies for beauty and lifestyle brands. Kate conti
 nues to learn about emerging trends and best practices and shares her 
 knowledge at Digital Dealer, Driving Sales, TLS, Innovative Dealer Sum
 mit, Auto Dealer Monthly’s Training for Success Magazine and at nume
 rous 20 Group Associations. Ms. Frost has been recognized as Dealer Ma
 rketing Magazine’s 2014, 2015 & 2016 Technology Leader in Social Med
 ia. Kate is a highly respected member of the automotive community and 
 a busy public speaker, and she can be reached at Kate@KateFrostInc.com
 .\n\nFor more information visit https://www.dealerelite.net/events/fre
 e-webinar-5-mistakes-you-re-making-on-instagram-and-how-to-fix
DTSTART;TZID=America/New_York:20170209T120000
DTEND;TZID=America/New_York:20170209T130000
CATEGORIES:webinar, free
LOCATION:http://www.dealeron.com/webinar/5-mistakes-on-instagram-and-h
 ow-to-fix-them/
WEBSITE:http://www.dealeron.com/webinar/5-mistakes-on-instagram-and-ho
 w-to-fix-them/
URL:http://www.dealeron.com/webinar/5-mistakes-on-instagram-and-how-to
 -fix-them/
CONTACT:
ORGANIZER;CN="Eliana Raggio":https://www.dealerelite.net/profile/Elian
 aRaggio
ATTACH;FMTTYPE="image/jpeg":http://storage.ning.com/topology/rest/1.0/
 file/get/2633028734?profile=original
ATTENDEE;ROLE=REQ-PARTICIPANT;PARTSTAT=ACCEPTED;RSVP=TRUE;CN="Eliana R
 aggio":https://www.dealerelite.net/profile/ElianaRaggio
END:VEVENT
END:VCALENDAR
