BEGIN:VCALENDAR
PRODID:NingEventWidget-v1
VERSION:2.0
METHOD:PUBLISH
BEGIN:VTIMEZONE
TZID:America/New_York
X-LIC-LOCATION:America/New_York
BEGIN:DAYLIGHT
TZOFFSETFROM:-0500
TZOFFSETTO:-0400
TZNAME:EDT
DTSTART:19700308T020000
RRULE:FREQ=YEARLY;BYMONTH=3;BYDAY=2SU
END:DAYLIGHT
BEGIN:STANDARD
TZOFFSETFROM:-0400
TZOFFSETTO:-0500
TZNAME:EST
DTSTART:19701101T020000
RRULE:FREQ=YEARLY;BYMONTH=11;BYDAY=1SU
END:STANDARD
END:VTIMEZONE
BEGIN:VEVENT
UID:5283893:Event:498754
DTSTAMP:20260422T215228Z
SUMMARY:FREE WEBINAR: 6 Steps to Increase your Fixed Ops CSI
DESCRIPTION:It’s not an understatement to say that many dealerships
  struggle to maintain a high Fixed Ops CSI. Striking that delicate ba
 lance between making the customer happy and making a great profit is 
 an incredible challenge.\nWOULD YOU LIKE TO INCREASE YOUR FIXED OPS CS
 I?\nHeck yeah you would! For this important topic, we brought in consu
 mer engagement and CSI analytics heavy hitter Curtis Nixon. His exclus
 ive process has helped dealerships boost Fixed Ops CSI by as much as 
 2 to 7 points!\nThis essential 1-hour webinar is a detailed presentati
 on where he will share his no-fluff, practical guide to increasing yo
 ur Fixed Ops CSI. Curtis will first discuss consumer experience life
 cycle trends that are impacting you right now and the result-drive
 n processesthat you need to know. Next, you will learn how to use data
  and technology to achieve consistent results, build trust and create
  the ultimate consumer experience. Lastly, Curtis will present you wit
 h a clear blueprint to jumpstart your CSI improvement efforts over th
 e next 30 days and beyond.\nIn the end, attendees will leave with a st
 ep-by-step approach on how ANY dealership can start increasing their 
 Fixed Ops CSI—with the very latest tools and techniques. That’s w
 hat we call a WIN-WIN-WIN, people!\nIf you know that maintaining 90
 + score in your Fixed Ops CSI is integral to the success of your deale
 rship, then you simply can’t afford to miss this presentation! Regi
 ster Now!\nPRESENTER: CURTIS NIXON is the President & CEO of UpdateP
 romise, whose innovative system provides automated status updates that
  keeps service customers happily engaged and informed throughout the e
 ntire process and beyond. This exclusive technology increases customer
  satisfaction, employee efficiency, and brand loyalty, and has subs
 equently reshaped the entire collision repair industry and set the gol
 d standard for customer communication and overall consumer experience.
  Curtis understood the importance of mobile device culture in the serv
 ice industry and his invention has since transformed the way consumers
  interact with businesses, and greatly improved the level of service t
 hat businesses can provide to their clients. Today, his product helps 
 more than 15,000 automotive rooftops across the U.S. provide superior 
 communication and an unparalleled customer experience. Furthermore, 8 
 out of the top 10 Insurance carriers have mandated the use of his tech
 nology. Curtis has over 30 years of experience in the Automotive Indus
 try and is regarded as an industry leading professional for consumer e
 ngagement and CSI analytics, and he can be reached at Curtis@UpdatePro
 mise.com.\n\nFor more information visit https://www.dealerelite.net/ev
 ents/free-webinar-6-steps-to-increase-your-fixed-ops-csi
DTSTART;TZID=America/New_York:20170504T120000
DTEND;TZID=America/New_York:20170504T130000
CATEGORIES:webinar, free
LOCATION:http://www.dealeron.com/webinar/increase-fixed-ops-csi/
WEBSITE:http://www.dealeron.com/webinar/increase-fixed-ops-csi/
URL:http://www.dealeron.com/webinar/increase-fixed-ops-csi/
CONTACT:
ORGANIZER;CN="Eliana Raggio":https://www.dealerelite.net/profile/Elian
 aRaggio
ATTACH;FMTTYPE="image/jpeg":http://storage.ning.com/topology/rest/1.0/
 file/get/2633030965?profile=original
ATTENDEE;ROLE=REQ-PARTICIPANT;PARTSTAT=ACCEPTED;RSVP=TRUE;CN="Eliana R
 aggio":https://www.dealerelite.net/profile/ElianaRaggio
END:VEVENT
END:VCALENDAR
