BEGIN:VCALENDAR
PRODID:NingEventWidget-v1
VERSION:2.0
METHOD:PUBLISH
BEGIN:VTIMEZONE
TZID:America/New_York
X-LIC-LOCATION:America/New_York
BEGIN:DAYLIGHT
TZOFFSETFROM:-0500
TZOFFSETTO:-0400
TZNAME:EDT
DTSTART:19700308T020000
RRULE:FREQ=YEARLY;BYMONTH=3;BYDAY=2SU
END:DAYLIGHT
BEGIN:STANDARD
TZOFFSETFROM:-0400
TZOFFSETTO:-0500
TZNAME:EST
DTSTART:19701101T020000
RRULE:FREQ=YEARLY;BYMONTH=11;BYDAY=1SU
END:STANDARD
END:VTIMEZONE
BEGIN:VEVENT
UID:5283893:Event:50766
DTSTAMP:20260424T034254Z
SUMMARY:FREE Webinar: 7 Keys to Social Media Success in 2011
DESCRIPTION:2011 is the year of social in the automotive industry. In 
 2008, a few car dealers started using it. In 2009, it hit a tipping po
 int when everyone was interested but there weren't a lot who really to
 ok the dive. In 2010, almost all dealers recognized the importance and
  really started taking it seriously.\nIn 2011, it all really begins.\n
 Join us with our special guest Ralph Paglia as he and JD Rucker break 
 it down for us. What are the keys to success in 2011? These 7 points g
 ive dealers of all levels - whether they are just getting started or h
 ave gone to an advanced stage - the skinny with tips, tricks, and stra
 tegies that they can use to maximize their success in the coming year.
 \nPresenter:JD Rucker, Director of New Media at TK Carsites, is recogn
 ized in the industry as the leading authority on Automotive SEO and is
  a world renowned Social Media expert. He is also the President of Has
 ai, Inc., a wholly owned subsidiary of TK Carsites. Furthermore, he ha
 s personally optimized over 150 individual websites and coordinated th
 e optimization of over 1,000 websites. Furthermore, JD has been a part
  of a critically acclaimed weekly Social Media webcast - The Social Bl
 ade Show - since the summer of 2009.\nRalph Paglia has 20+ years of le
 adership in information technology enabled automotive strategy and tac
 tical implementation experience. Most widely known as the outspoken Di
 rector of Digital Marketing at ADP Services, Ralph now solely dedicate
 s himself as the Founder and President of America's leading social net
 work for automotive marketing and sales professionals. The Automotive 
 Digital Marketing (ADM) Professional Community provides an online exch
 ange for strategies, tactics, best practices, files, images, videos an
 d professional networking amongst marketing professionals working in t
 he car business.\n\nFor more information visit https://www.dealerelite
 .net/events/free-webinar-7-keys-to-social
DTSTART;TZID=America/New_York:20110119T120000
DTEND;TZID=America/New_York:20110119T130000
CATEGORIES:free, webinar
LOCATION:http://forms.tkcarsites.com/go/tkcarsites/keys-social
WEBSITE:http://forms.tkcarsites.com/go/tkcarsites/keys-social
URL:http://forms.tkcarsites.com/go/tkcarsites/keys-social
CONTACT:
ORGANIZER;CN="Eliana Raggio":https://www.dealerelite.net/profile/Elian
 aRaggio
ATTACH;FMTTYPE="image/jpeg":http://storage.ning.com/topology/rest/1.0/
 file/get/2632911025?profile=original
ATTENDEE;ROLE=REQ-PARTICIPANT;PARTSTAT=ACCEPTED;RSVP=TRUE;CN="Eliana R
 aggio":https://www.dealerelite.net/profile/ElianaRaggio
END:VEVENT
END:VCALENDAR
