BEGIN:VCALENDAR
PRODID:NingEventWidget-v1
VERSION:2.0
METHOD:PUBLISH
BEGIN:VTIMEZONE
TZID:America/New_York
X-LIC-LOCATION:America/New_York
BEGIN:DAYLIGHT
TZOFFSETFROM:-0500
TZOFFSETTO:-0400
TZNAME:EDT
DTSTART:19700308T020000
RRULE:FREQ=YEARLY;BYMONTH=3;BYDAY=2SU
END:DAYLIGHT
BEGIN:STANDARD
TZOFFSETFROM:-0400
TZOFFSETTO:-0500
TZNAME:EST
DTSTART:19701101T020000
RRULE:FREQ=YEARLY;BYMONTH=11;BYDAY=1SU
END:STANDARD
END:VTIMEZONE
BEGIN:VEVENT
UID:5283893:Event:360040
DTSTAMP:20260424T140009Z
SUMMARY:FREE WEBINAR: 7 Priceless Tips that Guarantee HUGE Accessories
  Profits
DESCRIPTION:Q: Have you ever estimated how much “personalization rev
 enue” drives off your lot?\nA: It’s probably far more than you thi
 nk.\nIf you are NOT currently offering vehicle personalization, two th
 ings are certain: 1. You’re walking away from a lot of money and 2. 
 Your customers will spend their money elsewhere.\nWith the opportunity
  for diversification, relatively low startup cost, customer convenienc
 e and a hefty shot in the arm to other profit centers – not to menti
 on higher profit margins – the question every dealer should be askin
 g is: Why isn’t our dealership enjoying the returns a well-run acces
 sories department can provide?\nThe challenge for dealerships has alwa
 ys been “how” to capture this amazing accessories revenue. It’s 
 a process that involves sales, service & parts. Then when you add OE, 
 aftermarket products, distributors, restylers, etc., the opportunities
  quickly become limitless…and, for most, a bit overwhelming.\nIn thi
 s 1 hour webinar, you will learn 7 Priceless Tips on how to structure 
 a successful Accessories Profit Center that will immediately increase 
 customer loyalty and dramatically improve your bottom line.\nIf you th
 ink it’s time you got a bigger slice of the $30B+ accessory industry
  pie, then this is the webinar you simply can’t afford to miss!\nPRE
 SENTER: David Stringer is the President of Insignia Group, the leading
  provider of accessory sales systems & training services to dealership
 s, enabling them to establish and grow a successful Accessories Profit
  Center. David is an entrepreneur, published writer and well respected
  professional in the automotive community for his expertise on increas
 ing front end and fixed operations gross through vehicle personalizati
 on (accessory sales). He is an editorial contributor for highly respec
 ted industry publications such as Fixed Ops Magazine, Digital Dealer M
 agazine and Automotive Digital Marketing. He is always looking to help
  dealerships make more profits through accessory sales and can be reac
 hed at DStringer@InsigniaGroup.com.\n\nFor more information visit http
 s://www.dealerelite.net/events/free-webinar-7-priceless-tips-that-guar
 antee-huge-accessories
DTSTART;TZID=America/New_York:20130328T120000
DTEND;TZID=America/New_York:20130328T130000
CATEGORIES:webinar, free
LOCATION:http://www.dealeron.com/webinar/events/7-priceless-tips-that-
 guarantee-huge-accessories-profits/
WEBSITE:http://www.dealeron.com/webinar/events/7-priceless-tips-that-g
 uarantee-huge-accessories-profits/
URL:http://www.dealeron.com/webinar/events/7-priceless-tips-that-guara
 ntee-huge-accessories-profits/
CONTACT:
ORGANIZER;CN="Eliana Raggio":https://www.dealerelite.net/profile/Elian
 aRaggio
ATTACH;FMTTYPE="image/jpeg":http://storage.ning.com/topology/rest/1.0/
 file/get/2632969549?profile=original
ATTENDEE;ROLE=REQ-PARTICIPANT;PARTSTAT=ACCEPTED;RSVP=TRUE;CN="Eliana R
 aggio":https://www.dealerelite.net/profile/ElianaRaggio
END:VEVENT
END:VCALENDAR
