BEGIN:VCALENDAR
PRODID:NingEventWidget-v1
VERSION:2.0
METHOD:PUBLISH
BEGIN:VTIMEZONE
TZID:America/New_York
X-LIC-LOCATION:America/New_York
BEGIN:DAYLIGHT
TZOFFSETFROM:-0500
TZOFFSETTO:-0400
TZNAME:EDT
DTSTART:19700308T020000
RRULE:FREQ=YEARLY;BYMONTH=3;BYDAY=2SU
END:DAYLIGHT
BEGIN:STANDARD
TZOFFSETFROM:-0400
TZOFFSETTO:-0500
TZNAME:EST
DTSTART:19701101T020000
RRULE:FREQ=YEARLY;BYMONTH=11;BYDAY=1SU
END:STANDARD
END:VTIMEZONE
BEGIN:VEVENT
UID:5283893:Event:316658
DTSTAMP:20260423T163030Z
SUMMARY:FREE Webinar: 7 Ways to Influence and Measure The Zero Moment 
 of Truth
DESCRIPTION:By now, most Dealers have heard of Google’s comprehensiv
 e study with Shopper Sciences, The Zero Moment of Truth (ZMOT), a grou
 ndbreaking analysis of how consumer behavior has transformed in the di
 gital age. However, it left many in the Auto Industry scratching their
  heads wondering how to use all that information to a competitive adva
 ntage.\nLucky for us, Julio Gonzalez, VP of Operations at Haystak Digi
 tal Marketing, is going to discuss the 7 ways we can influence and mea
 sure the Zero Moment of Truth. This jam-packed 1 hour webinar will inc
 lude lessons on: * Budget organization * Impression Share * Measuring 
 Engagement and CPM * Mobile Campaigns * Bing * Display/Retargeting * A
 ttribution\nOne thing is for sure, if you are ready to take full advan
 tage of the Zero Moment of Truth, then this is a webinar you can’t a
 fford to miss!\nPRESENTER: Julio Gonzalez is VP of Operations for Hays
 tak Digital Marketing, a world leader in automotive SEM and automotive
  PPC. (part of Moore and Scarry Advertising). As a Google Premier SMB 
 Partner and Microsoft Authorized Reseller, Haystak Digital Marketing p
 rovides the most advanced automotive search engine marketing and pay p
 er click services. Julio's experience in the digital area has ranged f
 rom developing several multimedia products to advising companies and d
 ealerships on how to develop and execute smart marketing initiatives. 
 His expertise ranges from search marketing, web design, social media, 
 and web analytics. Julio is an avid traveler and can be reached at Jul
 io@Haystak or by his Twitter handle @Juliog_msa.\n\nFor more informati
 on visit https://www.dealerelite.net/events/free-webinar-7-ways-to-inf
 luence-and-measure-the-zero-moment-of
DTSTART;TZID=America/New_York:20120927T120000
DTEND;TZID=America/New_York:20120927T130000
CATEGORIES:webinar
LOCATION:https://www4.gotomeeting.com/register/842404095
WEBSITE:http://www.dealeron.com/webinar
URL:http://www.dealeron.com/webinar
CONTACT:
ORGANIZER;CN="Eliana Raggio":https://www.dealerelite.net/profile/Elian
 aRaggio
ATTACH;FMTTYPE="image/jpeg":http://storage.ning.com/topology/rest/1.0/
 file/get/2632966138?profile=original
ATTENDEE;ROLE=REQ-PARTICIPANT;PARTSTAT=ACCEPTED;RSVP=TRUE;CN="Rebecca 
 Williamson":https://www.dealerelite.net/profile/RebeccaWilliamson
ATTENDEE;ROLE=REQ-PARTICIPANT;PARTSTAT=ACCEPTED;RSVP=TRUE;CN="Eliana R
 aggio":https://www.dealerelite.net/profile/ElianaRaggio
END:VEVENT
END:VCALENDAR
