BEGIN:VCALENDAR
PRODID:NingEventWidget-v1
VERSION:2.0
METHOD:PUBLISH
BEGIN:VTIMEZONE
TZID:America/New_York
X-LIC-LOCATION:America/New_York
BEGIN:DAYLIGHT
TZOFFSETFROM:-0500
TZOFFSETTO:-0400
TZNAME:EDT
DTSTART:19700308T020000
RRULE:FREQ=YEARLY;BYMONTH=3;BYDAY=2SU
END:DAYLIGHT
BEGIN:STANDARD
TZOFFSETFROM:-0400
TZOFFSETTO:-0500
TZNAME:EST
DTSTART:19701101T020000
RRULE:FREQ=YEARLY;BYMONTH=11;BYDAY=1SU
END:STANDARD
END:VTIMEZONE
BEGIN:VEVENT
UID:5283893:Event:327000
DTSTAMP:20260423T032834Z
SUMMARY:FREE Webinar: Advanced SEO for Dealers â€“ What Still Works on
  Google
DESCRIPTION:Everyone who does anything with digital marketing knows th
 at Google constantly changes and massages its algorithm to improve loc
 al results. In just the last 12 months, Google has come out with 3 maj
 or updates (Panda, Venice and Penguin). While many dealerships have be
 en left scrambling and confused in the wake of these changes, Googleâ€
 ™s updates have also created great opportunities for those dealers wit
 h a strong and diverse online marketing strategy, since most of the ch
 anges are targeted at penalizing redundant content and rewarding highl
 y localized, relevant content for local searchers.\nDealerOnâ€™s CEO, 
 Ali Amirrezvani, will cut through the clutter about what still drives 
 organic rankings and how to leverage that knowledge for your dealershi
 p in 2013. He will also provide dealers with a list of best practices 
 for optimization that still work in Googleâ€™s new more complex SEO la
 ndscape.\nThis free 1 hour webinar will cover the following action ite
 ms:\n1. How to Google-ize your mobile site\n2. Dramatically increase o
 rganic traffic from in-market shoppers\n3. Plan for Googleâ€™s next up
 date\n4. Discover tools to track and measure results\n5. Learn the fut
 ure of SEO for car dealers\nIf you want to stay on top of Googleâ€™s l
 ocal listings and immediately improve your SEO then this is one webina
 r you canâ€™t afford to miss!\nPRESENTER: Ali Amirrezvani is the Presi
 dent, CEO, and Co-Founder of DealerOn, Inc., an award winning website 
 development company and digital agency best known for Search Engine Op
 timization, best-in-class Customer Service and award-winning Websites.
  He has spent the last 10 years helping Dealerships dramatically incre
 ase their sales and profitability from their websites and online marke
 ting efforts. Ali is a noted automotive online marketing guru and is a
 lso a featured expert contributor to Auto Dealer Monthly Magazine. An 
 avid blogger and online contributor, he can be found on all the automo
 tive social networks and can be reached at Ali@DealerOn.com.\n\nFor mo
 re information visit https://www.dealerelite.net/events/free-webinar-a
 dvanced-seo-for-dealers-what-still-works-on-google
DTSTART;TZID=America/New_York:20121025T120000
DTEND;TZID=America/New_York:20121025T130000
CATEGORIES:webinar, free
LOCATION:http://www.dealeron.com/webinar/events/advanced-seo-for-deale
 rs-what-still-works-on-google/
WEBSITE:http://www.dealeron.com/webinar/events/advanced-seo-for-dealer
 s-what-still-works-on-google/
URL:http://www.dealeron.com/webinar/events/advanced-seo-for-dealers-wh
 at-still-works-on-google/
CONTACT:
ORGANIZER;CN="Eliana Raggio":https://www.dealerelite.net/profile/Elian
 aRaggio
ATTACH;FMTTYPE="image/jpeg":http://storage.ning.com/topology/rest/1.0/
 file/get/2632959692?profile=original
ATTENDEE;ROLE=REQ-PARTICIPANT;PARTSTAT=ACCEPTED;RSVP=TRUE;CN="Eliana R
 aggio":https://www.dealerelite.net/profile/ElianaRaggio
END:VEVENT
END:VCALENDAR
