BEGIN:VCALENDAR
PRODID:NingEventWidget-v1
VERSION:2.0
METHOD:PUBLISH
BEGIN:VTIMEZONE
TZID:America/New_York
X-LIC-LOCATION:America/New_York
BEGIN:DAYLIGHT
TZOFFSETFROM:-0500
TZOFFSETTO:-0400
TZNAME:EDT
DTSTART:19700308T020000
RRULE:FREQ=YEARLY;BYMONTH=3;BYDAY=2SU
END:DAYLIGHT
BEGIN:STANDARD
TZOFFSETFROM:-0400
TZOFFSETTO:-0500
TZNAME:EST
DTSTART:19701101T020000
RRULE:FREQ=YEARLY;BYMONTH=11;BYDAY=1SU
END:STANDARD
END:VTIMEZONE
BEGIN:VEVENT
UID:5283893:Event:327502
DTSTAMP:20260423T045912Z
SUMMARY:FREE Webinar: Best Practices for Compliant Marketing
DESCRIPTION:What you see as a simple communication to a customer about
  an upcoming holiday sale might actually be a hidden class action laws
 uit. Are you prepared to pay? As a business it is your responsibility 
 to know and abide by the state and federal law, including advertising 
 law, and to work with your marketing vendors to help ensure compliant 
 communications.\n\nIn 2012 alone, businesses settled nearly $100 milli
 on in claims under the Telephone Consumer Protection Act, effectively 
 transferring precious cash to class action plaintiffs and their attorn
 eys.\n\nAre you compliant with current and upcoming FCC and FTC regula
 tions? The laws are changing - and quickly. You could be one communica
 tion away from an expensive class-action lawsuit and bankruptcy. Don't
  wait 'til it's too late! Join Eric Sloan, DMEautomotive's Vice Presid
 ent of Compliance, for this informative webinar that will open your ey
 es to the legal world of advertising and how to protect your business 
 from never-ending hardships.\n\nIn this webinar you will:\n\n\nGet edu
 cated on the FCC and FTC regulations that directly affect communicatio
 n with your customers\nLearn how to communicate in accordance with new
  laws\nHear best practices in opt-ins and acquiring prior express writ
 ten consent\nAsk questions of DMEautomotive's Vice President of Compli
 ance, who specializes in compliance and business law\n\n\nThe informat
 ion provided by this webinar is for educational purposes and should no
 t be construed as legal advice. Participants should not act upon the i
 nformation provided without the advice of independent counsel. Partici
 pation in the webinar does not create or constitute an attorney-client
  relationship.\n\nFor more information visit https://www.dealerelite.n
 et/events/free-webinar-best-practices-for-compliant-marketing
DTSTART;TZID=America/New_York:20121030T140000
DTEND;TZID=America/New_York:20121030T150000
CATEGORIES:webinar
LOCATION:Online at www.autonews.com/powertraining
WEBSITE:http://www.autonews.com/powertraining
URL:http://www.autonews.com/powertraining
CONTACT:
ORGANIZER;CN="Sarah Gorajek":https://www.dealerelite.net/profile/Sarah
 Gorajek
ATTACH;FMTTYPE="image/jpeg":http://storage.ning.com/topology/rest/1.0/
 file/get/2632953427?profile=original
ATTENDEE;ROLE=REQ-PARTICIPANT;PARTSTAT=ACCEPTED;RSVP=TRUE;CN="Sarah Go
 rajek":https://www.dealerelite.net/profile/SarahGorajek
END:VEVENT
END:VCALENDAR
