BEGIN:VCALENDAR
PRODID:NingEventWidget-v1
VERSION:2.0
METHOD:PUBLISH
BEGIN:VTIMEZONE
TZID:America/New_York
X-LIC-LOCATION:America/New_York
BEGIN:DAYLIGHT
TZOFFSETFROM:-0500
TZOFFSETTO:-0400
TZNAME:EDT
DTSTART:19700308T020000
RRULE:FREQ=YEARLY;BYMONTH=3;BYDAY=2SU
END:DAYLIGHT
BEGIN:STANDARD
TZOFFSETFROM:-0400
TZOFFSETTO:-0500
TZNAME:EST
DTSTART:19701101T020000
RRULE:FREQ=YEARLY;BYMONTH=11;BYDAY=1SU
END:STANDARD
END:VTIMEZONE
BEGIN:VEVENT
UID:5283893:Event:493991
DTSTAMP:20260423T220804Z
SUMMARY:FREE WEBINAR: DealerOn Academy - Automotive Marketing Briefing
DESCRIPTION:Join members of the DealerOn Executive Team as they discus
 s current automotive marketing updates, industry perspectives and best
  practices. This is a highly interactive webinar where the majority of
  time is dedicated to Q and A from the audience.\nThe collective knowl
 edge of DealerOn’s leadership team includes retail automotive, marke
 ting, technology and service experience. Don’t miss the first 2017 A
 utomotive Marketing Briefing with the DealerOn Exec team!\nPRESENTERS:
  This is your opportunity to ask questions and hear from one of the mo
 st knowledgeable leadership teams in the automotive industry. Join us!
 \nAli Amirrezvani – CEO & Co-Founder\nAmir Amirrezvani – Co-Founde
 r\nChris Deringer – Chief Marketing Officer\nJeff Clark – Chief Sa
 les Officer\nShaun Raines – VP of Business Development\nGreg Gifford
  – Director of Search & Social\nMichael DeVito – Chief Creative Of
 ficer\n\nFor more information visit https://www.dealerelite.net/events
 /free-webinar-dealeron-academy-automotive-marketing-briefing
DTSTART;TZID=America/New_York:20170316T120000
DTEND;TZID=America/New_York:20170316T130000
CATEGORIES:webinar, free
LOCATION:http://www.dealeron.com/webinar/2017-dealeron-academy-automot
 ive-marketing-briefing/
WEBSITE:http://www.dealeron.com/webinar/2017-dealeron-academy-automoti
 ve-marketing-briefing/
URL:http://www.dealeron.com/webinar/2017-dealeron-academy-automotive-m
 arketing-briefing/
CONTACT:
ORGANIZER;CN="Eliana Raggio":https://www.dealerelite.net/profile/Elian
 aRaggio
ATTACH;FMTTYPE="image/jpeg":http://storage.ning.com/topology/rest/1.0/
 file/get/2633028867?profile=original
ATTENDEE;ROLE=REQ-PARTICIPANT;PARTSTAT=ACCEPTED;RSVP=TRUE;CN="Eliana R
 aggio":https://www.dealerelite.net/profile/ElianaRaggio
END:VEVENT
END:VCALENDAR
