BEGIN:VCALENDAR
PRODID:NingEventWidget-v1
VERSION:2.0
METHOD:PUBLISH
BEGIN:VTIMEZONE
TZID:America/New_York
X-LIC-LOCATION:America/New_York
BEGIN:DAYLIGHT
TZOFFSETFROM:-0500
TZOFFSETTO:-0400
TZNAME:EDT
DTSTART:19700308T020000
RRULE:FREQ=YEARLY;BYMONTH=3;BYDAY=2SU
END:DAYLIGHT
BEGIN:STANDARD
TZOFFSETFROM:-0400
TZOFFSETTO:-0500
TZNAME:EST
DTSTART:19701101T020000
RRULE:FREQ=YEARLY;BYMONTH=11;BYDAY=1SU
END:STANDARD
END:VTIMEZONE
BEGIN:VEVENT
UID:5283893:Event:504238
DTSTAMP:20260419T085217Z
SUMMARY:FREE WEBINAR: Digital Marketing Strategies that Get More Bang 
 for Your Buck
DESCRIPTION:DO YOU EVER WONDER IF YOU ARE SPENDING THE “RIGHT” AMO
 UNT OF MONEY ON DIGITAL MARKETING?\nYou’re not alone! The majority o
 f dealerships feel the same. After all, you want to get great results
  without feeling like you wasted money or could have done better.\nWha
 t if the “right” amount of money is the amount you are comfortabl
 e spending…and you just have to make that investment perform better
 ?\nThat’s what this week’s DealerOn webinar presenters are saying!
  Sean Welsh from Car Biz Done Better and Chad Graves from Reunion Mark
 eting believe that dealerships should spend what they can afford and 
 stick to it.\nThey are going to show you that Digital Marketing Strat
 egies don’t have to be expensive to get truly impressive results. 
 Attendees of this jam-packed 1 hour webinar will learn to establish 
 a rock solid foundation for digital marketing with proven basics and n
 ew cutting edge techniques. This comprehensive presentation will inclu
 de numerous real world examples and case studies and teach dealers t
 o:\n\nMake a solid plan to gauge success. \nBuild a marketing strateg
 y that fits your operation. \nAbandon things like useless national st
 atistics and benchmarks.\nKnow which KPIs to measure.\nMeasure perform
 ance against yourself…and so much more.\n\nIf you are ready to lear
 n the Digital Marketing Strategies that Get More Bang for Your Buck,
 then you simply can’t afford to miss this presentation! Be sure to 
 REGISTER NOW!\nPRESENTERS: SEAN WELSH is the CEO and Cofounder of Ca
 r Biz Done Better, a company whose sole purpose is to ensure that deal
 ers are not overspending on digital marketing.  After 17+ years work
 ing Retail, with an OEM and as a Digital Consultant, Sean is uniquely 
 qualified as an impressive digital resource, fierce advocate and trust
 worthy partner for dealerships large or small.  His main focus is to
  provide dealership clients with the confidence to make informed decis
 ions about their digital marketing in the often confusing world of dig
 ital uncertainty and big data.  He can be reached at carbizdonebetter
 @gmail.com. Joining Sean will be CHAD GRAVES, the Co-Founder and Dir
 ector of Sales for Reunion Marketing where he leads the company’s gr
 owth strategy in key verticals, the chief of which is automotive. Leve
 raging his experience at a 33-store automotive group, he now fulfills 
 the essential role of helping a dealer’s leadership team understand 
 the importance of SEO, SEM and social media. His company has built a s
 trong reputation for providing comprehensive digital marketing strateg
 ies that drive quality traffic to conversion pages for greater ROI. He
  can be reached at Chad@ReunionMarketing.com.\n\nFor more information 
 visit https://www.dealerelite.net/events/free-webinar-digital-marketin
 g-strategies-that-get-more-bang-for
DTSTART;TZID=America/New_York:20170817T120000
DTEND;TZID=America/New_York:20170817T130000
CATEGORIES:webinar, free
LOCATION:http://www.dealeron.com/webinar/digital-marketing-strategies-
 get-bang-buck/
WEBSITE:http://www.dealeron.com/webinar/digital-marketing-strategies-g
 et-bang-buck/
URL:http://www.dealeron.com/webinar/digital-marketing-strategies-get-b
 ang-buck/
CONTACT:
ORGANIZER;CN="Eliana Raggio":https://www.dealerelite.net/profile/Elian
 aRaggio
ATTACH;FMTTYPE="image/jpeg":http://storage.ning.com/topology/rest/1.0/
 file/get/2633050592?profile=original
ATTENDEE;ROLE=REQ-PARTICIPANT;PARTSTAT=ACCEPTED;RSVP=TRUE;CN="Eliana R
 aggio":https://www.dealerelite.net/profile/ElianaRaggio
END:VEVENT
END:VCALENDAR
