BEGIN:VCALENDAR
PRODID:NingEventWidget-v1
VERSION:2.0
METHOD:PUBLISH
BEGIN:VTIMEZONE
TZID:America/New_York
X-LIC-LOCATION:America/New_York
BEGIN:DAYLIGHT
TZOFFSETFROM:-0500
TZOFFSETTO:-0400
TZNAME:EDT
DTSTART:19700308T020000
RRULE:FREQ=YEARLY;BYMONTH=3;BYDAY=2SU
END:DAYLIGHT
BEGIN:STANDARD
TZOFFSETFROM:-0400
TZOFFSETTO:-0500
TZNAME:EST
DTSTART:19701101T020000
RRULE:FREQ=YEARLY;BYMONTH=11;BYDAY=1SU
END:STANDARD
END:VTIMEZONE
BEGIN:VEVENT
UID:5283893:Event:51021
DTSTAMP:20260423T122116Z
SUMMARY:FREE Webinar -- DIY Link Building: How Dealers Can Rank for \"
 Money Terms\"
DESCRIPTION:Dealers are starting to understand that search engine opti
 mization is a combination of 2 things: content and links. Most are tak
 ing advantage of their websites' ability to allow them to add content,
  but the link-building is still a mystery to most.\nHigh-quality inbou
 nd links are the most important aspect of SEO when it comes to getting
  the \"money terms\" (high-volume, highly-competitive keywords) and ra
 nking at the top. They're also the biggest challenge for dealers becau
 se getting them requires interaction away from the website.\nIn this w
 ebinar, JD Rucker will walk you through how to get high-quality inboun
 d links. There are pitfalls - the wrong links can do more harm than go
 od. There are sources that car dealers have access to that will make i
 t easier for them. JD will show you the way!\nPresenter:JD Rucker, Dir
 ector of New Media at TK Carsites, is recognized in the industry as th
 e leading authority on Automotive SEO and is a world renowned Social M
 edia expert. He is also the President of Hasai, Inc., a wholly owned s
 ubsidiary of TK Carsites. Furthermore, he has personally optimized ove
 r 150 individual websites and coordinated the optimization of over 1,0
 00 websites. Furthermore, JD has been a part of a critically acclaimed
  weekly Social Media webcast - The Social Blade Show - since the summe
 r of 2009.\n\nFor more information visit https://www.dealerelite.net/e
 vents/free-webinar-diy-link
DTSTART;TZID=America/New_York:20110216T120000
DTEND;TZID=America/New_York:20110216T130000
CATEGORIES:free, webinars
LOCATION:http://forms.tkcarsites.com/go/tkcarsites/link-social
WEBSITE:http://forms.tkcarsites.com/go/tkcarsites/link-social
URL:http://forms.tkcarsites.com/go/tkcarsites/link-social
CONTACT:
ORGANIZER;CN="Eliana Raggio":https://www.dealerelite.net/profile/Elian
 aRaggio
ATTACH;FMTTYPE="image/jpeg":http://storage.ning.com/topology/rest/1.0/
 file/get/2632911158?profile=original
ATTENDEE;ROLE=REQ-PARTICIPANT;PARTSTAT=ACCEPTED;RSVP=TRUE;CN="Eliana R
 aggio":https://www.dealerelite.net/profile/ElianaRaggio
END:VEVENT
END:VCALENDAR
