BEGIN:VCALENDAR
PRODID:NingEventWidget-v1
VERSION:2.0
METHOD:PUBLISH
BEGIN:VTIMEZONE
TZID:America/New_York
X-LIC-LOCATION:America/New_York
BEGIN:DAYLIGHT
TZOFFSETFROM:-0500
TZOFFSETTO:-0400
TZNAME:EDT
DTSTART:19700308T020000
RRULE:FREQ=YEARLY;BYMONTH=3;BYDAY=2SU
END:DAYLIGHT
BEGIN:STANDARD
TZOFFSETFROM:-0400
TZOFFSETTO:-0500
TZNAME:EST
DTSTART:19701101T020000
RRULE:FREQ=YEARLY;BYMONTH=11;BYDAY=1SU
END:STANDARD
END:VTIMEZONE
BEGIN:VEVENT
UID:5283893:Event:359838
DTSTAMP:20260424T205210Z
SUMMARY:FREE WEBINAR: Dominate Your Market: People, Processes and Prac
 tices
DESCRIPTION:Do you know how to dominate your market?\nGrant Cardone do
 es…and he is going to tell you!\nHis name is synonymous with automot
 ive excellence, business success and the most effective sales strategi
 es around.\nIn this 1-hour webinar, Grant will share the many things y
 ou can do to still achieve amazing success even in this harsh economy.
  Some of the items he will discuss include: - Competition vs. Dominati
 on - How to identify where you can dominate - What to do if your Adver
 tising and Marketing do their job, but conversion remains an issue - H
 ow to get the very best out of your people everyday\nAre you looking t
 o get optimum results out of your People, your Processes and your Prac
 tices? Then it goes without saying that this presentation is an event 
 that simply can’t be missed!\nPRESENTER: GRANT CARDONE is an interna
 tional Sales Expert and motivational speaker providing Sales Training 
 & Motivation Programs to Fortune 500 companies, small businesses, succ
 ess minded individuals and entrepreneurs. He is regularly seen on Fox 
 Business, NBC, MSNBC, and Business Insider. Grant is also the executiv
 e producer and star of “Turnaround King”, a TV program created aro
 und his motivating solution-oriented business coaching. Even with all 
 that, Grant somehow found the time to become a New York Times best-sel
 ling author of four books on what individuals and companies must do to
  achieve success in the new economy: “Sell To Survive”, “The Clo
 sers Survival Guide”, “If You’re Not First, You’re Last” and
  “The 10X Rule”. Continuing the tradition of bringing innovative s
 ales training tools, technologies and solutions to life; Grant has lau
 nched two, interactive online sales training centers www.CardoneUniver
 sity.com and www.CardoneOnDemand.com for continuing automotive sales t
 raining. Found out more about him at www.GrantCardone.com\n\nFor more 
 information visit https://www.dealerelite.net/events/free-webinar-domi
 nate-your-market-people-processes-and-practices
DTSTART;TZID=America/New_York:20130321T120000
DTEND;TZID=America/New_York:20130321T130000
CATEGORIES:webinar, free
LOCATION:http://www.dealeron.com/webinar/events/dominate-your-market-p
 eople-processes-and-practices/
WEBSITE:http://www.dealeron.com/webinar/events/dominate-your-market-pe
 ople-processes-and-practices/
URL:http://www.dealeron.com/webinar/events/dominate-your-market-people
 -processes-and-practices/
CONTACT:
ORGANIZER;CN="Eliana Raggio":https://www.dealerelite.net/profile/Elian
 aRaggio
ATTACH;FMTTYPE="image/jpeg":http://storage.ning.com/topology/rest/1.0/
 file/get/2632970395?profile=original
ATTENDEE;ROLE=REQ-PARTICIPANT;PARTSTAT=ACCEPTED;RSVP=TRUE;CN="Mathew K
 oenig":https://www.dealerelite.net/profile/konigco
ATTENDEE;ROLE=REQ-PARTICIPANT;PARTSTAT=ACCEPTED;RSVP=TRUE;CN="Eliana R
 aggio":https://www.dealerelite.net/profile/ElianaRaggio
END:VEVENT
END:VCALENDAR
