BEGIN:VCALENDAR
PRODID:NingEventWidget-v1
VERSION:2.0
METHOD:PUBLISH
BEGIN:VTIMEZONE
TZID:America/New_York
X-LIC-LOCATION:America/New_York
BEGIN:DAYLIGHT
TZOFFSETFROM:-0500
TZOFFSETTO:-0400
TZNAME:EDT
DTSTART:19700308T020000
RRULE:FREQ=YEARLY;BYMONTH=3;BYDAY=2SU
END:DAYLIGHT
BEGIN:STANDARD
TZOFFSETFROM:-0400
TZOFFSETTO:-0500
TZNAME:EST
DTSTART:19701101T020000
RRULE:FREQ=YEARLY;BYMONTH=11;BYDAY=1SU
END:STANDARD
END:VTIMEZONE
BEGIN:VEVENT
UID:5283893:Event:497788
DTSTAMP:20260423T052533Z
SUMMARY:FREE WEBINAR: Everything You Need to Know About Local Link Bui
 lding
DESCRIPTION:By now, everyone understands thatÂ showing up in search re
 sults is absolutely vital to the success of your business. However, mo
 st dealerships donâ€™t make use of one ofÂ the most valuable SEO strat
 egiesâ€¦Link Building!\nItâ€™s time to GET FIRED UP ABOUT LOCAL SEARCH
  ANDÂ START A COMPREHENSIVE LINK BUILDING STRATEGY!Â Wanna know how?\n
 This 1 hour webinar will provide you with aÂ link building roadmap to 
 help you identify the right types of link opportunities to target.\nGo
 ogle looks at all the sites that link back to you AND your competitors
 . Years ago, links were all about quantity and domain authority â€“ no
 w, with recent algorithm changes,Â local relevance plays a bigger role
  than ever before. This presentation will showÂ how to build relevant,
  local linksÂ that will improveÂ your online visibility.\nThis is theÂ
  game-changerÂ you have been waiting for, people! Donâ€™t miss this we
 binar on 4/20 toÂ learnÂ great local linkÂ building strategiesÂ that w
 ill smoke your competition! Register now!\nPRESENTER:Â STEVE SHACKELFO
 RDÂ is the Search and Social Team Manager at DealerOn, responsible for
  running the team and contributing to overall SEO strategy. Heâ€™s bee
 n in the SEO arena for over 5 years, with more than 4 years spent excl
 usively in the automotive vertical. His experience across multiple dea
 ler website platforms and gift for analyzing data is integral to the s
 uccess of the DealerOn SEO team. Heâ€™s becoming a popular speaker at 
 automotive conferences due to his unique take on Local SEO and laid-ba
 ck presentation style and he can be reached at SShackelford@DealerOn.c
 om.\n\nFor more information visit https://www.dealerelite.net/events/f
 ree-webinar-everything-you-need-to-know-about-local-link
DTSTART;TZID=America/New_York:20170420T120000
DTEND;TZID=America/New_York:20170420T130000
CATEGORIES:webinar, free
LOCATION:http://www.dealeron.com/webinar/everything-about-local-link-b
 uilding/
WEBSITE:http://www.dealeron.com/webinar/everything-about-local-link-bu
 ilding/
URL:http://www.dealeron.com/webinar/everything-about-local-link-buildi
 ng/
CONTACT:
ORGANIZER;CN="Eliana Raggio":https://www.dealerelite.net/profile/Elian
 aRaggio
ATTACH;FMTTYPE="image/jpeg":http://storage.ning.com/topology/rest/1.0/
 file/get/2633025782?profile=original
ATTENDEE;ROLE=REQ-PARTICIPANT;PARTSTAT=ACCEPTED;RSVP=TRUE;CN="Eliana R
 aggio":https://www.dealerelite.net/profile/ElianaRaggio
END:VEVENT
END:VCALENDAR
