BEGIN:VCALENDAR
PRODID:NingEventWidget-v1
VERSION:2.0
METHOD:PUBLISH
BEGIN:VTIMEZONE
TZID:America/New_York
X-LIC-LOCATION:America/New_York
BEGIN:DAYLIGHT
TZOFFSETFROM:-0500
TZOFFSETTO:-0400
TZNAME:EDT
DTSTART:19700308T020000
RRULE:FREQ=YEARLY;BYMONTH=3;BYDAY=2SU
END:DAYLIGHT
BEGIN:STANDARD
TZOFFSETFROM:-0400
TZOFFSETTO:-0500
TZNAME:EST
DTSTART:19701101T020000
RRULE:FREQ=YEARLY;BYMONTH=11;BYDAY=1SU
END:STANDARD
END:VTIMEZONE
BEGIN:VEVENT
UID:5283893:Event:348600
DTSTAMP:20260425T083751Z
SUMMARY:FREE Webinar: Expert from Google Helps you Connect with Auto S
 hoppers Using the Google Display Network
DESCRIPTION:Are you looking to improve your dealership’s online pres
 ence? Well who isn’t?!\nWith the overwhelming majority of people sea
 rching for vehicles online before purchasing, and given that today's o
 nline user invests 95% of their time on non-search activities, it is v
 itally important for your dealership to focus on proper exposure and d
 ifferentiation. The Google Display Network is the perfect vehicle to h
 elp you generate online awareness by effectively connecting to shopper
 s during different stages of the purchasing cycle.\nIn this 1 hour web
 inar, Ohad Tzur, Strategic Partner Manager on Google's Channel Sales A
 utomotive Team, will explain the importance of display advertising for
  the automotive industry through the Google Display Network. He will a
 lso discuss various targeting options as well as 2013 Display trends i
 n the Auto Industry.\nIf you are looking for solutions to maximize you
 r online exposure on Google, then this is definitely one webinar you c
 annot miss!\nPRESENTER: Ohad Tzur, Strategic Partner Manager on Google
 's Channel Sales Automotive Team, combines analytical thinking and cre
 ativity as he supports top-management with identifying growth opportun
 ities and evaluating new strategies. Prior to joining Google, Ohad com
 pleted his MBA studies at MIT Sloan School of Management, focusing on 
 online platforms and global strategy. He brings a wealth of experience
  in Display online advertising from his previous position as a Team Le
 ader at DSNR Media Group (DMG), a start-up providing result-based onli
 ne and mobile advertising solutions. As part of his role, Ohad was res
 ponsible for DMG's strategic accounts, and was a leading figure in the
  company's training program.\n\nFor more information visit https://www
 .dealerelite.net/events/free-webinar-expert-from-google-helps-you-conn
 ect-with-auto
DTSTART;TZID=America/New_York:20130228T120000
DTEND;TZID=America/New_York:20130228T130000
CATEGORIES:webinar, free
LOCATION:http://www.dealeron.com/webinar/events/expert-from-google-hel
 ps-you-connect-with-auto-shoppers-using-the-google-display-network/
WEBSITE:http://www.dealeron.com/webinar/events/expert-from-google-help
 s-you-connect-with-auto-shoppers-using-the-google-display-network/
URL:http://www.dealeron.com/webinar/events/expert-from-google-helps-yo
 u-connect-with-auto-shoppers-using-the-google-display-network/
CONTACT:
ORGANIZER;CN="Eliana Raggio":https://www.dealerelite.net/profile/Elian
 aRaggio
ATTACH;FMTTYPE="image/jpeg":http://storage.ning.com/topology/rest/1.0/
 file/get/2632966157?profile=original
ATTENDEE;ROLE=REQ-PARTICIPANT;PARTSTAT=ACCEPTED;RSVP=TRUE;CN="Eliana R
 aggio":https://www.dealerelite.net/profile/ElianaRaggio
END:VEVENT
END:VCALENDAR
