BEGIN:VCALENDAR
PRODID:NingEventWidget-v1
VERSION:2.0
METHOD:PUBLISH
BEGIN:VTIMEZONE
TZID:America/New_York
X-LIC-LOCATION:America/New_York
BEGIN:DAYLIGHT
TZOFFSETFROM:-0500
TZOFFSETTO:-0400
TZNAME:EDT
DTSTART:19700308T020000
RRULE:FREQ=YEARLY;BYMONTH=3;BYDAY=2SU
END:DAYLIGHT
BEGIN:STANDARD
TZOFFSETFROM:-0400
TZOFFSETTO:-0500
TZNAME:EST
DTSTART:19701101T020000
RRULE:FREQ=YEARLY;BYMONTH=11;BYDAY=1SU
END:STANDARD
END:VTIMEZONE
BEGIN:VEVENT
UID:5283893:Event:305612
DTSTAMP:20260419T174054Z
SUMMARY:FREE Webinar: Expert from Google Shares Best Mobile Strategies
DESCRIPTION:It shouldn't surprise anyone by now that mobile devices ha
 ve drastically shifted the online landscape. There are millions of act
 ive smartphones today with the numbers increasing exponentially so imp
 lementing a Mobile Marketing Strategy is simply the smartest move any 
 business can make.\nMobile advertising has proven to be extremely succ
 essful in reaching shoppers at the moment it matters so it is no surpr
 ise that businesses taking advantage of a strong mobile strategy are r
 eaping the benefits. If you aren't currently including a strong Mobile
  Strategy in your marketing plan, what are you waiting for?\nMobile ma
 rketing presents a distinct and unique way to interact with customers 
 but as with any new marketing venture, results can either be an outsta
 nding success or cringe-worthy failures. This free 1-hour webinar will
  explore the very best Mobile Strategies that dealerships should be us
 ing to properly navigate the mobile landscape covering topics such as:
 \n\nThe value of creating mobile-only campaigns   \nCreating effect
 ive mobile-optimized landing pages\nLeveraging mobile ad extensions to
  complete the mobile experience\n\nOne thing is certain, consumers hav
 e changed the way they use their cellphones. Has your dealership kept 
 up? If you are ready to hear about the Best Mobile Strategies from the
  ULTIMATE SOURCE, then this is a webinar you can’t afford to miss!\n
 PRESENTER: Eli Romberg is a Strategic Partner Manager on the Automotiv
 e Channel Sales team for North America at Google. Romberg has over 5 y
 ears experience in online advertising and possesses an innate passion 
 for internet technologies and digital solutions. He is responsible for
  providing automotive partners with scalable business solutions to fur
 ther develop dealer advertising strategies. He shares in-depth market 
 analysis and has helped both partners and dealers maximize their inves
 tment with Google AdWords.\n\nFor more information visit https://www.d
 ealerelite.net/events/free-webinar-expert-from-google-shares-best-mobi
 le-strategies
DTSTART;TZID=America/New_York:20120712T120000
DTEND;TZID=America/New_York:20120712T130000
CATEGORIES:webinar, free
LOCATION:https://www4.gotomeeting.com/register/211373999
WEBSITE:https://www4.gotomeeting.com/register/211373999
URL:https://www4.gotomeeting.com/register/211373999
CONTACT:
ORGANIZER;CN="Eliana Raggio":https://www.dealerelite.net/profile/Elian
 aRaggio
ATTACH;FMTTYPE="image/jpeg":http://storage.ning.com/topology/rest/1.0/
 file/get/2632948135?profile=original
ATTENDEE;ROLE=REQ-PARTICIPANT;PARTSTAT=ACCEPTED;RSVP=TRUE;CN="Acacia D
 uquette":https://www.dealerelite.net/profile/AcaciaDuquette
ATTENDEE;ROLE=REQ-PARTICIPANT;PARTSTAT=ACCEPTED;RSVP=TRUE;CN="Ali Amir
 rezvani":https://www.dealerelite.net/profile/AliAmirrezvani
ATTENDEE;ROLE=REQ-PARTICIPANT;PARTSTAT=ACCEPTED;RSVP=TRUE;CN="Eliana R
 aggio":https://www.dealerelite.net/profile/ElianaRaggio
END:VEVENT
END:VCALENDAR
