BEGIN:VCALENDAR
PRODID:NingEventWidget-v1
VERSION:2.0
METHOD:PUBLISH
BEGIN:VTIMEZONE
TZID:America/New_York
X-LIC-LOCATION:America/New_York
BEGIN:DAYLIGHT
TZOFFSETFROM:-0500
TZOFFSETTO:-0400
TZNAME:EDT
DTSTART:19700308T020000
RRULE:FREQ=YEARLY;BYMONTH=3;BYDAY=2SU
END:DAYLIGHT
BEGIN:STANDARD
TZOFFSETFROM:-0400
TZOFFSETTO:-0500
TZNAME:EST
DTSTART:19701101T020000
RRULE:FREQ=YEARLY;BYMONTH=11;BYDAY=1SU
END:STANDARD
END:VTIMEZONE
BEGIN:VEVENT
UID:5283893:Event:497527
DTSTAMP:20260423T071047Z
SUMMARY:FREE WEBINAR: Expert from Google Shares How to Leverage Data t
 o Win with YouTube
DESCRIPTION:YouTubeÂ is a truly powerful and popular website and is th
 eÂ 2nd largest search engine in the world. So why are there so many de
 alerships that have yet to take advantage of it?\nIf you are not using
  YouTube yet toÂ improve traffic, customer loyalty, branding or salesÂ
  thenÂ you are missing an enormous opportunity! Wait no longer â€” The
  expert is here and ready to help!\nJoin Tim Mueller from Google as he
  presents a powerful 1 hour webinar on howÂ Googleâ€™s data plus YouTu
 beâ€™s latest release, TrueView, can drive swift and dramatic results 
 for your dealership.Â Tim will discussÂ website video strategies and b
 est practicesÂ thatÂ drive conversion and sell more cars.\nAttendees o
 f this fast-paced presentation will learn how to leverage Googleâ€™s d
 ata and YouTube toÂ reach in market customers at the right time!Â When
  done right:Â Viewers see videos theyâ€™re curious about, youÂ get mor
 e views from an audience you know is interested, and since you choose 
 what you want to pay for a view, youÂ get the right audience at the ri
 ght price. Thatâ€™s what we call aÂ WIN-WIN-WIN!\nARE YOU READY TO WIN
  ON YOUTUBE?Â Donâ€™t miss this opportunity to hear an Expert from Goo
 gle discuss howÂ Google Data + YouTube TrueView will help you sell mor
 e cars!\nPRESENTER: TIM MUELLERÂ is an Automotive Retail Strategist at
  Google in the Southeast Region. He has spent his career in the automo
 tive business, consulting with dealers and manufacturers to help them 
 coordinate their marketing and advertising initiatives. As part of Goo
 gleâ€™s Automotive Retail team, he is responsible for providing region
 al specific insights and recommendations that support manufacturers, d
 ealer advertising associations and large dealer groups to grow their b
 usinesses in the ever changing digital landscape. He is a graduate of 
 the University of New Hampshire with degrees in Marketing and Entrepre
 neurial Venture Creations.\n\nFor more information visit https://www.d
 ealerelite.net/events/free-webinar-expert-from-google-shares-how-to-le
 verage-data-to
DTSTART;TZID=America/New_York:20170413T120000
DTEND;TZID=America/New_York:20170413T130000
CATEGORIES:webinar, free
LOCATION:http://www.dealeron.com/webinar/expert-from-google-shares-how
 -to-win-with-youtube/
WEBSITE:http://www.dealeron.com/webinar/expert-from-google-shares-how-
 to-win-with-youtube/
URL:http://www.dealeron.com/webinar/expert-from-google-shares-how-to-w
 in-with-youtube/
CONTACT:
ORGANIZER;CN="Eliana Raggio":https://www.dealerelite.net/profile/Elian
 aRaggio
ATTACH;FMTTYPE="image/jpeg":http://storage.ning.com/topology/rest/1.0/
 file/get/2633032294?profile=original
ATTENDEE;ROLE=REQ-PARTICIPANT;PARTSTAT=ACCEPTED;RSVP=TRUE;CN="Eliana R
 aggio":https://www.dealerelite.net/profile/ElianaRaggio
END:VEVENT
END:VCALENDAR
