BEGIN:VCALENDAR
PRODID:NingEventWidget-v1
VERSION:2.0
METHOD:PUBLISH
BEGIN:VTIMEZONE
TZID:America/New_York
X-LIC-LOCATION:America/New_York
BEGIN:DAYLIGHT
TZOFFSETFROM:-0500
TZOFFSETTO:-0400
TZNAME:EDT
DTSTART:19700308T020000
RRULE:FREQ=YEARLY;BYMONTH=3;BYDAY=2SU
END:DAYLIGHT
BEGIN:STANDARD
TZOFFSETFROM:-0400
TZOFFSETTO:-0500
TZNAME:EST
DTSTART:19701101T020000
RRULE:FREQ=YEARLY;BYMONTH=11;BYDAY=1SU
END:STANDARD
END:VTIMEZONE
BEGIN:VEVENT
UID:5283893:Event:488921
DTSTAMP:20260424T070015Z
SUMMARY:FREE WEBINAR:: Expert from Google Shares New Data on Today’s
  Automotive Path to Purchase
DESCRIPTION:Google has done it again!\nThey have just completed a bra
 nd new comprehensive study on Today’s Automotive Path to the Purchas
 e! This groundbreaking analysis of online shopper behavior traces t
 he micro-moments of a consumer’s search for their next car and detai
 ls which influencers are most critical to the process.\nThis is HUGE N
 EWS!\nTo present material as vital as this, we called in an expert fro
 m Google to show us this latest information and how we can use it to
 sell more cars.\nIn this fascinating and data driven 1-hour webinar, 
 Andrew Diffenderfer from Google will outline a road map of online ma
 rketing strategies for Auto Dealers who want to take advantage of the
  crucial information held within this new report.  Attendees will als
 o get answers to several burning questions, such as:\n\nWhat is typica
 lly a consumer’s first online micro-moment when car shopping?\n\n\nH
 ow can we reach and engage consumers simply by knowing their “micro-
 moments of influence”?\n\n\nHow has mobile changed the modern car sh
 opper’s path to the purchase?\n\n\nDo car shoppers actually look at 
 videos and how influential are they really?\n\n\nWhat can I offer onli
 ne that will convince car buyers to come to my dealership?\n\n\nWhat i
 s the last online touchpoint before a consumer heads to a dealership?\
 n\n…and so much more\nOne thing is certain, consumers have changed 
 the way they shop for cars… HAS YOUR DEALERSHIP KEPT UP?\nIf you are
  ready to hear an Expert from Google Share New Data on Today’s Auto
 motive Path to the Purchase, then this is a MUST-SEE PRESENTATION! Re
 gister now!\nPRESENTER: ANDREW DIFFENDERFER is a Google Automotive R
 etail Strategist based in the Northeast. Driven by a lifelong passion 
 for automobiles, he helps dealerships and manufacturers engage with th
 e end users while advising on Google’s wide array of marketing solut
 ions to achieve the best ROI. Andrew has spent his entire career in th
 e automotive vertical working at manufacturers, dealerships and full-s
 ervice advertising agencies. He is a graduate of Mount St. Mary’s Un
 iversity with a degree in business management and Masters of Business 
 Administration and he can be reached on Twitter @TheRealDiff.\n\nFor m
 ore information visit https://www.dealerelite.net/events/free-webinar-
 expert-from-google-shares-new-data-on-today-s-1
DTSTART;TZID=America/New_York:20170223T120000
DTEND;TZID=America/New_York:20170223T130000
CATEGORIES:webinar, free
LOCATION:http://www.dealeron.com/webinar/expert-google-shares-new-data
 -todays-automotive-path-purchase/
WEBSITE:http://www.dealeron.com/webinar/expert-google-shares-new-data-
 todays-automotive-path-purchase/
URL:http://www.dealeron.com/webinar/expert-google-shares-new-data-toda
 ys-automotive-path-purchase/
CONTACT:
ORGANIZER;CN="Eliana Raggio":https://www.dealerelite.net/profile/Elian
 aRaggio
ATTACH;FMTTYPE="image/jpeg":http://storage.ning.com/topology/rest/1.0/
 file/get/2633025625?profile=original
ATTENDEE;ROLE=REQ-PARTICIPANT;PARTSTAT=ACCEPTED;RSVP=TRUE;CN="Eliana R
 aggio":https://www.dealerelite.net/profile/ElianaRaggio
END:VEVENT
END:VCALENDAR
