BEGIN:VCALENDAR
PRODID:NingEventWidget-v1
VERSION:2.0
METHOD:PUBLISH
BEGIN:VTIMEZONE
TZID:America/New_York
X-LIC-LOCATION:America/New_York
BEGIN:DAYLIGHT
TZOFFSETFROM:-0500
TZOFFSETTO:-0400
TZNAME:EDT
DTSTART:19700308T020000
RRULE:FREQ=YEARLY;BYMONTH=3;BYDAY=2SU
END:DAYLIGHT
BEGIN:STANDARD
TZOFFSETFROM:-0400
TZOFFSETTO:-0500
TZNAME:EST
DTSTART:19701101T020000
RRULE:FREQ=YEARLY;BYMONTH=11;BYDAY=1SU
END:STANDARD
END:VTIMEZONE
BEGIN:VEVENT
UID:5283893:Event:485654
DTSTAMP:20260425T160845Z
SUMMARY:FREE WEBINAR -- Expert from Google: What Dealers Need to do to
  Rock the New Year!
DESCRIPTION:Ch-ch-ch-changes! New Year… New Start… New Problems?!\
 nYup. 2017 holds the promise of a fresh start. But don’t kid yoursel
 f… it won’t be without new challenges too. After all, using the r
 ight digital marketing strategy on today’s savvy internet car buyer
 s will maximize profitability, dramatically increase inventory veloci
 ty and greatly improve customer satisfaction.\nWANT TO KNOW WHAT YOU N
 EED TO DO TO ROCK THE NEW YEAR?\nIn this unparalleled 1 hour webinar, 
 Kelly McNearney, Senior Automotive Retail Strategist from Google, wil
 l focus on exciting innovations and marketing trends that are sure to
  make a huge difference to you  and your bottom line.  She will shar
 e 5 things every dealer needs to master to be successful in 2017…an
 d leave those headaches of 2016 in the dust. She will also discuss ne
 w tools from Google that you can use right now to keep that #1 New Ye
 ar’s resolution – SELL MORE CARS!!!\nThis is an hour of all-arou
 nd Automotive Awesomeness that is not to be missed! If you want to h
 ear an Expert from Google share What Dealers Need to do to Rock the N
 ew Year, then this is a MUST-SEE presentation! Register Now!\nPRESENT
 ER: Kelly McNearney is Senior Automotive Retail Strategist for Googl
 e. Based in Venice, CA, she coaches automotive clients on Google’s w
 ide range of solutions including Google Search, YouTube, Google Displa
 y Network, programmatic and mobile solutions. Her mission is to help a
 utomotive retailers make the most of the web by reaching in-market sho
 ppers with the right message at the right time. She has conducted keyn
 ote addresses at Digital Dealer, DMSC, the Google Automotive Retail Su
 mmit and numerous OEM-specific conferences. Prior to joining Google, K
 elly spent 9 years at ESPN in Customer Marketing and Sales creating an
 d selling multimedia sponsorship packages for sports advertisers. Kell
 y is a graduate of the University of Kansas with degrees in Journalism
  and Spanish. She is a thinkLA Person of the Year award winner and is 
 the SoCal regional lead on GoogleServe, Google’s annual volunteerism
  initiative. She lives in Hermosa Beach, CA and is always looking for 
 tips on interesting travel destinations.\nPRIZE ALERT: Our good frien
 ds over at Google are giving away a tremendous prize on the webinar! O
 ne (1) lucky attendee will win a shiny new Nest Cam to spy on Santa co
 ming down your chimney! The Nest Cam provides 24/7 live video streamin
 g and continuous recording of your home in 1080p HD right to your phon
 e, also comes with audio, night vision, motion & sound alerts, and com
 plete remote control. You have to be on the live broadcast to win it t
 hough so be sure to register and attend for your chance to win this sw
 eet prize!\n\nFor more information visit https://www.dealerelite.net/e
 vents/free-webinar-expert-from-google-what-dealers-need-to-do-to-rock
DTSTART;TZID=America/New_York:20161215T120000
DTEND;TZID=America/New_York:20161215T130000
CATEGORIES:webinar, free
LOCATION:http://www.dealeron.com/webinar/expert-google-dealers-need-ro
 ck-new-year/
WEBSITE:http://www.dealeron.com/webinar/expert-google-dealers-need-roc
 k-new-year/
URL:http://www.dealeron.com/webinar/expert-google-dealers-need-rock-ne
 w-year/
CONTACT:
ORGANIZER;CN="Eliana Raggio":https://www.dealerelite.net/profile/Elian
 aRaggio
ATTACH;FMTTYPE="image/jpeg":http://storage.ning.com/topology/rest/1.0/
 file/get/2633025224?profile=original
ATTENDEE;ROLE=REQ-PARTICIPANT;PARTSTAT=ACCEPTED;RSVP=TRUE;CN="Celeste 
 Berner":https://www.dealerelite.net/profile/CelesteBerner
ATTENDEE;ROLE=REQ-PARTICIPANT;PARTSTAT=ACCEPTED;RSVP=TRUE;CN="Eliana R
 aggio":https://www.dealerelite.net/profile/ElianaRaggio
ATTENDEE;ROLE=REQ-PARTICIPANT;PARTSTAT=TENTATIVE;RSVP=TRUE;CN=DealerEL
 ITE:https://www.dealerelite.net/profile/ChrisandMike
END:VEVENT
END:VCALENDAR
