BEGIN:VCALENDAR
PRODID:NingEventWidget-v1
VERSION:2.0
METHOD:PUBLISH
BEGIN:VTIMEZONE
TZID:America/New_York
X-LIC-LOCATION:America/New_York
BEGIN:DAYLIGHT
TZOFFSETFROM:-0500
TZOFFSETTO:-0400
TZNAME:EDT
DTSTART:19700308T020000
RRULE:FREQ=YEARLY;BYMONTH=3;BYDAY=2SU
END:DAYLIGHT
BEGIN:STANDARD
TZOFFSETFROM:-0400
TZOFFSETTO:-0500
TZNAME:EST
DTSTART:19701101T020000
RRULE:FREQ=YEARLY;BYMONTH=11;BYDAY=1SU
END:STANDARD
END:VTIMEZONE
BEGIN:VEVENT
UID:5283893:Event:51025
DTSTAMP:20260423T084339Z
SUMMARY:FREE Webinar -- Expert Panel Discussion: Promoting Your Social
  Media Efforts Online
DESCRIPTION:Almost all dealerships are involved with Social Media in s
 ome way. Some are still dabbling, while others have a very aggressive 
 presence. Either way, are you getting the most out of your Social Medi
 a efforts? Have you been promoting them properly? Wondering how to get
  more attention to your Social Media?\nTK Carsites proudly invites you
  to join our panel of Social Media Experts as they share their experie
 nces and recommend strategies that are sure to have a direct and swift
  impact for your dealership. In this webinar, you will have the opport
 unity to ask our nationally recognized experts your most pressing Inte
 rnet Marketing and Social Media questions. Hear what they have faced a
 nd how they addressed and overcame those problems. Most importantly, c
 ome away with some insightful and actionable things you can do to impr
 ove your internet strategy immediately!\nAttendees will be able to tap
  our panel’s best practice expertise for a full hour by submitting q
 uestions in advance using the form on the registration page or by aski
 ng questions during the webinar.\nPresenter:\nJD Rucker, Director of N
 ew Media at TK Carsites, is recognized in the industry as the leading 
 authority on Automotive SEO and is a world renowned Social Media exper
 t.\nTimothy Martell, a 19 year veteran of the automotive industry and 
 the Digital Marketing Director for the Albrecht Auto Group, better kno
 wn for the incredible success of the group’s Nissan Franchise: Marlb
 oro Nissan.\nJeff Cryder, the Social Media Director at Lebanon Ford, i
 s also a contributing writer and co-host on the Social Blade Show, whi
 ch airs every Thursday night 10pm EST.\nErin Ryan, Social Media Specia
 list at TK Carsites, has a keen understanding of the power of Social M
 edia and fervently stays up-to-date with the Social Media Industry. Al
 so a co-host of the Social Blade show.\n\nFor more information visit h
 ttps://www.dealerelite.net/events/free-webinar-expert-panel-1
DTSTART;TZID=America/New_York:20110302T120000
DTEND;TZID=America/New_York:20110302T130000
CATEGORIES:free, webinar
LOCATION:http://forms.tkcarsites.com/go/tkcarsites/promote-social
WEBSITE:http://forms.tkcarsites.com/go/tkcarsites/promote-social
URL:http://forms.tkcarsites.com/go/tkcarsites/promote-social
CONTACT:
ORGANIZER;CN="Eliana Raggio":https://www.dealerelite.net/profile/Elian
 aRaggio
ATTACH;FMTTYPE="image/jpeg":http://storage.ning.com/topology/rest/1.0/
 file/get/2632911273?profile=original
ATTENDEE;ROLE=REQ-PARTICIPANT;PARTSTAT=ACCEPTED;RSVP=TRUE;CN="Eliana R
 aggio":https://www.dealerelite.net/profile/ElianaRaggio
END:VEVENT
END:VCALENDAR
