BEGIN:VCALENDAR
PRODID:NingEventWidget-v1
VERSION:2.0
METHOD:PUBLISH
BEGIN:VTIMEZONE
TZID:America/New_York
X-LIC-LOCATION:America/New_York
BEGIN:DAYLIGHT
TZOFFSETFROM:-0500
TZOFFSETTO:-0400
TZNAME:EDT
DTSTART:19700308T020000
RRULE:FREQ=YEARLY;BYMONTH=3;BYDAY=2SU
END:DAYLIGHT
BEGIN:STANDARD
TZOFFSETFROM:-0400
TZOFFSETTO:-0500
TZNAME:EST
DTSTART:19701101T020000
RRULE:FREQ=YEARLY;BYMONTH=11;BYDAY=1SU
END:STANDARD
END:VTIMEZONE
BEGIN:VEVENT
UID:5283893:Event:71252
DTSTAMP:20260422T100954Z
SUMMARY:FREE Webinar: Expert Panel Discussion -- Online Reputation Man
 agement
DESCRIPTION:Having a healthy online reputation is critical to a dealer
 ship's success in today's market place.  Does your Dealership have a
 n Online Reputation Management Strategy in place?  Remember, if you 
 don't manage your online reputation, a disgruntled customer may do it 
 for you! TK Carsites proudly invites you to join our panel of Social M
 edia Experts as they share their experiences and recommend strategies 
 that are sure to have a direct and swift impact for your dealership. 
  In this webinar, you will have the opportunity to ask our nationally
  recognized experts your most pressing Internet Marketing and Social M
 edia questions. Hear what other dealers have faced and how they addres
 sed and overcame those problems. Most importantly, come away with some
  insightful and actionable things you can do to improve your internet 
 strategy immediately!   Attendees will be able to tap our panel’s 
 best practice expertise for a full hour by submitting questions in adv
 ance using the form on the registration page or by asking questions du
 ring the webinar.  This is the event you have been waiting for!  T
 hey’ve been there…they’ve done that…now they are ready to tell
  all! Expert Panelists include: JD Rucker, Director of New Media at TK
  Carsites, is recognized in the industry as the leading authority on A
 utomotive SEO and is a world renowned Social Media expert. Timothy Mar
 tell, a 19 year veteran of the automotive industry and the Digital Mar
 keting Director for the Albrecht Auto Group, better known for the incr
 edible success of the group’s Nissan Franchise: Marlboro Nissan. Jef
 f Cryder, the Social Media Director at Lebanon Ford, is also the subje
 ct of a Free Whitepaper, \"Successful Social Media for Auto Dealers: L
 ebanon Ford Provides a Roadmap For Best Practices\" available at www.d
 ealersocial.com. Erin Ryan, Social Media Specialist at TK Carsites, ha
 s a keen understanding of the power of Social Media and fervently stay
 s up-to-date with the Social Media Industry. Her blog can be found at 
 www.socialeyezer.com.\n\nFor more information visit https://www.dealer
 elite.net/events/free-webinar-expert-panel-2
DTSTART;TZID=America/New_York:20110406T120000
DTEND;TZID=America/New_York:20110406T130000
CATEGORIES:free, webinar
LOCATION:https://www1.gotomeeting.com/register/752782577
WEBSITE:https://www1.gotomeeting.com/register/752782577
URL:https://www1.gotomeeting.com/register/752782577
CONTACT:
ORGANIZER;CN="Eliana Raggio":https://www.dealerelite.net/profile/Elian
 aRaggio
ATTACH;FMTTYPE="image/jpeg":http://storage.ning.com/topology/rest/1.0/
 file/get/2632913034?profile=original
ATTENDEE;ROLE=REQ-PARTICIPANT;PARTSTAT=ACCEPTED;RSVP=TRUE;CN="Eliana R
 aggio":https://www.dealerelite.net/profile/ElianaRaggio
END:VEVENT
END:VCALENDAR
