BEGIN:VCALENDAR
PRODID:NingEventWidget-v1
VERSION:2.0
METHOD:PUBLISH
BEGIN:VTIMEZONE
TZID:America/New_York
X-LIC-LOCATION:America/New_York
BEGIN:DAYLIGHT
TZOFFSETFROM:-0500
TZOFFSETTO:-0400
TZNAME:EDT
DTSTART:19700308T020000
RRULE:FREQ=YEARLY;BYMONTH=3;BYDAY=2SU
END:DAYLIGHT
BEGIN:STANDARD
TZOFFSETFROM:-0400
TZOFFSETTO:-0500
TZNAME:EST
DTSTART:19701101T020000
RRULE:FREQ=YEARLY;BYMONTH=11;BYDAY=1SU
END:STANDARD
END:VTIMEZONE
BEGIN:VEVENT
UID:5283893:Event:363324
DTSTAMP:20260423T142022Z
SUMMARY:FREE WEBINAR: EXPERT PANEL: Are You an Internet Ninja Warriorâ
 €¦or a 90 lb. Weakling?
DESCRIPTION:For all dealerships, the first response to a lead can lite
 rally be the difference between making more money â€¦and losing the sa
 le.\nThis 1-hour webinar with JERRY THIBEAU from Phone Ninjas will be 
 the most exciting webinar you will attend all year! Jerry has assemble
 d an amazing group of industry experts who will help you take your Int
 ernet departments skill set to a whole new level.\nWeâ€™ve got JOE WEB
 B from Dealer Knows Consulting, JARED HAMILTON from Driving Sales, JEF
 F KERSHNER from Dealer Refresh, RALPH PAGLIA from Automotive Digital M
 arketing, and GRANT CARDONE who is a legend in the automotive industry
 . Over 100+ years of experience all on the same webinar! It doesnâ€™t 
 get any better than this folks.\nEach panelist will review one lead su
 bmission and offer their thoughts on how that salesperson could have d
 elivered a more powerful message. Upon the conclusion, the finalist wi
 ll be put into brackets and the voting will begin. One skilled Interne
 t rep will walk away with $1000 in cash. Will it be you?\nTo be consid
 ered for the contest and to have your leads reviewed by an industry ex
 pert, please treat the following information below as an actual custom
 er: Skip Miller skip@phoneninjas.com Cell: (980) 272-8688 Skip is inte
 rested in a new four door sedan. Something under 45K\nPretend the info
 rmation above is a fresh lead in your CRM and letâ€™s see if you are a
 n â€śInternet Ninja Warriorâ€ť or a â€ś90 lb. Weaklingâ€ť! Put Skip Mi
 ller on your follow-up plan and letâ€™s see if you have what it takes 
 to convert an internet lead to a sale! To be considered, please submit
  no more than one lead per dealership by April 15th.\nWant more money?
  Then this is one webinar you wonâ€™t want to miss!\nPRESENTER: Jerry 
 Thibeau is the President and Founder of Phone Ninjas, a company focuse
 d on helping dealerships improve phone skills. Jerryâ€™s success with 
 clients has made Phone Ninjas one of the hottest and fastest growing c
 ompanies in the automotive sector. Phone Ninjas was a recent winner of
  the PCG Spotlight Awards for one of the top five products at NADA 201
 2. Jerry is a 27-year automotive veteran and has earned the nickname â
 €śThe Phone Ninjaâ€ť for his ability to turn even the hardest of phone
  shoppers into real appointments that show. Having personally listened
  to and provided coaching feedback on more than 10,000 sales calls, Th
 ibeau is the industryâ€™s best and brightest when it comes to evaluati
 ng a phone conversation. Jerry has written countless articles for the 
 industry and is an active blogger on all of the popular automotive soc
 ial media sites. He can be reached at jerry@phoneninjas.com.\n\nFor mo
 re information visit https://www.dealerelite.net/events/free-webinar-e
 xpert-panel-are-you-an-internet-ninja-warrior-or-a
DTSTART;TZID=America/New_York:20130425T120000
DTEND;TZID=America/New_York:20130425T130000
CATEGORIES:webinar, free
LOCATION:http://www.dealeron.com/webinar/events/are-you-an-internet-ni
 nja-warrior-or-a-90-lb-weakling/
WEBSITE:http://www.dealeron.com/webinar/events/are-you-an-internet-nin
 ja-warrior-or-a-90-lb-weakling/
URL:http://www.dealeron.com/webinar/events/are-you-an-internet-ninja-w
 arrior-or-a-90-lb-weakling/
CONTACT:
ORGANIZER;CN="Eliana Raggio":https://www.dealerelite.net/profile/Elian
 aRaggio
ATTACH;FMTTYPE="image/jpeg":http://storage.ning.com/topology/rest/1.0/
 file/get/2632960467?profile=original
ATTENDEE;ROLE=REQ-PARTICIPANT;PARTSTAT=ACCEPTED;RSVP=TRUE;CN=jimrichte
 r27:https://www.dealerelite.net/profile/jimrichter27
ATTENDEE;ROLE=REQ-PARTICIPANT;PARTSTAT=ACCEPTED;RSVP=TRUE;CN="Eliana R
 aggio":https://www.dealerelite.net/profile/ElianaRaggio
END:VEVENT
END:VCALENDAR
