BEGIN:VCALENDAR
PRODID:NingEventWidget-v1
VERSION:2.0
METHOD:PUBLISH
BEGIN:VTIMEZONE
TZID:America/New_York
X-LIC-LOCATION:America/New_York
BEGIN:DAYLIGHT
TZOFFSETFROM:-0500
TZOFFSETTO:-0400
TZNAME:EDT
DTSTART:19700308T020000
RRULE:FREQ=YEARLY;BYMONTH=3;BYDAY=2SU
END:DAYLIGHT
BEGIN:STANDARD
TZOFFSETFROM:-0400
TZOFFSETTO:-0500
TZNAME:EST
DTSTART:19701101T020000
RRULE:FREQ=YEARLY;BYMONTH=11;BYDAY=1SU
END:STANDARD
END:VTIMEZONE
BEGIN:VEVENT
UID:5283893:Event:51009
DTSTAMP:20260424T052710Z
SUMMARY:FREE Webinar - Expert Panel Discussion: Which Social Media Str
 ategy is Right for You?
DESCRIPTION:When it comes to Social Media, some dealerships are eager 
 to increase their \"likes' and followers while others are more concern
 ed with customer interactions. Does your dealership have a Social Medi
 a strategy in place? And if so, which strategy is right for you?\nTK C
 arsites proudly invites you to join our panel of Social Media Experts 
 as they share their experiences and recommend strategies that are sure
  to have a direct and swift impact for your dealership. In this webina
 r, you will have the opportunity to ask our nationally recognized expe
 rts your most pressing Internet Marketing and Social Media questions. 
 Hear what they have faced and how they addressed and overcame those pr
 oblems. Most importantly, come away with some insightful and actionabl
 e things you can do to improve your internet strategy immediately!\nAt
 tendees will be able to tap our panelâ€™s best practice expertise for 
 a full hour by submitting questions in advance using the form on the r
 egistration page or by asking questions during the webinar.\nPresenter
 :\nJD Rucker, Director of New Media at TK Carsites, is recognized in t
 he industry as the leading authority on Automotive SEO and is a world 
 renowned Social Media expert.\nTimothy Martell, a 19 year veteran of t
 he automotive industry and the Digital Marketing Director for the Albr
 echt Auto Group, better known for the incredible success of the groupâ
 €™s Nissan Franchise: Marlboro Nissan.\nJeff Cryder, the Social Media 
 Director at Lebanon Ford, is also a contributing writer and co-host on
  the Social Blade Show, which airs every Thursday night 10pm EST.\nEri
 n Ryan, Social Media Specialist at TK Carsites, has a keen understandi
 ng of the power of Social Media and fervently stays up-to-date with th
 e Social Media Industry. Also a co-host of the Social Blade show.\n\nF
 or more information visit https://www.dealerelite.net/events/free-webi
 nar-expert-panel
DTSTART;TZID=America/New_York:20110126T120000
DTEND;TZID=America/New_York:20110126T130000
CATEGORIES:free, webinar
LOCATION:http://forms.tkcarsites.com/go/tkcarsites/strategy-social
WEBSITE:http://forms.tkcarsites.com/go/tkcarsites/strategy-social
URL:http://forms.tkcarsites.com/go/tkcarsites/strategy-social
CONTACT:
ORGANIZER;CN="Eliana Raggio":https://www.dealerelite.net/profile/Elian
 aRaggio
ATTACH;FMTTYPE="image/jpeg":http://storage.ning.com/topology/rest/1.0/
 file/get/2632910914?profile=original
ATTENDEE;ROLE=REQ-PARTICIPANT;PARTSTAT=ACCEPTED;RSVP=TRUE;CN="Eliana R
 aggio":https://www.dealerelite.net/profile/ElianaRaggio
END:VEVENT
END:VCALENDAR
