BEGIN:VCALENDAR
PRODID:NingEventWidget-v1
VERSION:2.0
METHOD:PUBLISH
BEGIN:VTIMEZONE
TZID:America/New_York
X-LIC-LOCATION:America/New_York
BEGIN:DAYLIGHT
TZOFFSETFROM:-0500
TZOFFSETTO:-0400
TZNAME:EDT
DTSTART:19700308T020000
RRULE:FREQ=YEARLY;BYMONTH=3;BYDAY=2SU
END:DAYLIGHT
BEGIN:STANDARD
TZOFFSETFROM:-0400
TZOFFSETTO:-0500
TZNAME:EST
DTSTART:19701101T020000
RRULE:FREQ=YEARLY;BYMONTH=11;BYDAY=1SU
END:STANDARD
END:VTIMEZONE
BEGIN:VEVENT
UID:5283893:Event:498757
DTSTAMP:20260422T200424Z
SUMMARY:FREE WEBINAR: From Inbound to Opportunity – How to Maximize 
 Your Inbound Call Handling
DESCRIPTION:We all know that consumers are increasingly turning to cel
 l phones for research and engagement.  Mobile search and click-to-cal
 l technology enable consumers to dial directly from Google and dealers
 hips across the nation are experiencing an influx of inbound calls as 
 a result. However, according to a recent IHS Automotive analysis, tod
 ay OVER 84% OF A DEALERSHIP’S INBOUND SALES CALLS ARE NOT CONVERTED
  TO A SALE. That is a staggering number of unrealized opportunities!\
 nWith competition at an all-time high and sales margins tightening m
 ore and more each month, no dealership can afford to ignore their inb
 ound call handling.\nIT’S TIME TO RECLAIM LOST SALES!\nJoin this eye
 -opening 1 hour webinar as industry expert Bill Wittenmyer of ELEAD1ON
 E will share strategies to improve inbound call handling performance 
 and convert valuable phone leads into appointments.\nAttendees will le
 arn:\n-Tried and true inbound strategies for handling calls effectivel
 y\n-Proven professional communication skills that building trust with 
 callers\n-How a Virtual BDC backstop can help scale up performance im
 mediately \n-Heavy-hitting conversion strategies that get appointment
 s…and so much more!\nIf you are ready to maximize those inbound cal
 ls and turn them into strong opportunities, then this is a must-see pr
 esentation you simply can’t afford to miss! Register now!\nPRESENTER
 : Bill Wittenmyer is a partner of ELEAD1ONE, the leading dealership s
 oftware provider in today’s automotive market. Bill has over 20 year
 s of experience in the automotive space and currently oversees multipl
 e divisions within the organization, including Sales, Marketing, OEM r
 elationships and Large-client accounts. Prior to joining ELEAD1ONE, Bi
 ll spent several years in the automotive retail space holding various 
 retail positions in operations management. Highly regarded as a dynami
 c and motivational speaker, as well as an industry leader with non-tra
 ditional views, Wittenmyer speaks at several prominent automotive foru
 ms each year and contributes to top news publications and television b
 usiness shows that reach industry business leaders across the U.S. Bil
 l can be reached at BillW@eleadcrm.com.\n\nFor more information visit 
 https://www.dealerelite.net/events/free-webinar-from-inbound-to-opport
 unity-how-to-maximize-your
DTSTART;TZID=America/New_York:20170511T120000
DTEND;TZID=America/New_York:20170511T130000
CATEGORIES:webinar, free
LOCATION:http://www.dealeron.com/webinar/from-inbound-to-opportunity/
WEBSITE:http://www.dealeron.com/webinar/from-inbound-to-opportunity/
URL:http://www.dealeron.com/webinar/from-inbound-to-opportunity/
CONTACT:
ORGANIZER;CN="Eliana Raggio":https://www.dealerelite.net/profile/Elian
 aRaggio
ATTACH;FMTTYPE="image/jpeg":http://storage.ning.com/topology/rest/1.0/
 file/get/2633013400?profile=original
ATTENDEE;ROLE=REQ-PARTICIPANT;PARTSTAT=ACCEPTED;RSVP=TRUE;CN="Eliana R
 aggio":https://www.dealerelite.net/profile/ElianaRaggio
END:VEVENT
END:VCALENDAR
