BEGIN:VCALENDAR
PRODID:NingEventWidget-v1
VERSION:2.0
METHOD:PUBLISH
BEGIN:VTIMEZONE
TZID:America/New_York
X-LIC-LOCATION:America/New_York
BEGIN:DAYLIGHT
TZOFFSETFROM:-0500
TZOFFSETTO:-0400
TZNAME:EDT
DTSTART:19700308T020000
RRULE:FREQ=YEARLY;BYMONTH=3;BYDAY=2SU
END:DAYLIGHT
BEGIN:STANDARD
TZOFFSETFROM:-0400
TZOFFSETTO:-0500
TZNAME:EST
DTSTART:19701101T020000
RRULE:FREQ=YEARLY;BYMONTH=11;BYDAY=1SU
END:STANDARD
END:VTIMEZONE
BEGIN:VEVENT
UID:5283893:Event:334059
DTSTAMP:20260425T200016Z
SUMMARY:FREE Webinar: Get More Facebook LOVE!
DESCRIPTION:FACT: When it comes to businesses, social networking sites
  make it easier to market products, promote events and create brand aw
 areness – and none are more effective than Facebook!  In this age d
 ominated by smart phones and social media, a strong Facebook strategy 
 can be one of your most powerful tools in your digital marketing arsen
 al. However, most dealerships are still finding it difficult to take f
 ull advantage of all that Facebook can offer.\nDo you know how to get 
 more Love out of your dealership’s Facebook page? Alexi Venneri does
 !  Her name is synonymous with automotive social media and she will t
 ell you what top dealers are doing to get more likes, engagement and, 
 yes, $ALE$ from Facebook.\nThis face-paced, 1 hour webinar will cover 
 many Facebook topics, such as:\n\nBest use of tabs, images, contests a
 nd posts and other Facebook best practices\nLearn why your inventory s
 hould be available not just on your page but in the new Facebook Marke
 tplace\nSee how deals and offers can get you more check-ins, more like
 s and more sales\nLearn which Facebook Ads work and how to leverage th
 em to get more traffic\n\nIf you are looking to get the most out of yo
 ur Facebook page – then this is the webinar for you!\nPRESENTER: Ale
 xi Venneri is Co-Founder and Chief Operating Officer of Digital Air St
 rike, one of the fastest growing automotive social media and reputatio
 n management companies specializing in full service programs that give
  dealers an unfair online advantage. Alexi was most recently President
  of Auto Media/Blue Flame 6, one of the largest automotive advertising
  agencies, owned by The Van Tuyl Group.  Prior positions also include
  Vice President of Marketing, PR and Investor Relations at DealerTrack
 , Chief Marketing Officer at Who’s Calling and Director of Marketing
  for the Major League Baseball team, The Seattle Mariners. Alexi is an
  accomplished public speaker and author of the best-selling book “Ba
 lls! Six Rules for Winning the Business Game”. Alexi can be reached 
 at alexi@digitalairstrike.com or by phone at 206.669.6989.\n\nFor more
  information visit https://www.dealerelite.net/events/free-webinar-get
 -more-facebook-love
DTSTART;TZID=America/New_York:20130214T120000
DTEND;TZID=America/New_York:20130214T130000
CATEGORIES:webinar, free
LOCATION:http://www.dealeron.com/webinar/events/get-more-facebook-love
 /
WEBSITE:http://www.dealeron.com/webinar/events/get-more-facebook-love/
URL:http://www.dealeron.com/webinar/events/get-more-facebook-love/
CONTACT:
ORGANIZER;CN="Eliana Raggio":https://www.dealerelite.net/profile/Elian
 aRaggio
ATTACH;FMTTYPE="image/jpeg":http://storage.ning.com/topology/rest/1.0/
 file/get/2632960818?profile=original
ATTENDEE;ROLE=REQ-PARTICIPANT;PARTSTAT=ACCEPTED;RSVP=TRUE;CN="Eliana R
 aggio":https://www.dealerelite.net/profile/ElianaRaggio
ATTENDEE;ROLE=REQ-PARTICIPANT;PARTSTAT=TENTATIVE;RSVP=TRUE;CN=DealerEL
 ITE:https://www.dealerelite.net/profile/ChrisandMike
END:VEVENT
END:VCALENDAR
