BEGIN:VCALENDAR
PRODID:NingEventWidget-v1
VERSION:2.0
METHOD:PUBLISH
BEGIN:VTIMEZONE
TZID:America/New_York
X-LIC-LOCATION:America/New_York
BEGIN:DAYLIGHT
TZOFFSETFROM:-0500
TZOFFSETTO:-0400
TZNAME:EDT
DTSTART:19700308T020000
RRULE:FREQ=YEARLY;BYMONTH=3;BYDAY=2SU
END:DAYLIGHT
BEGIN:STANDARD
TZOFFSETFROM:-0400
TZOFFSETTO:-0500
TZNAME:EST
DTSTART:19701101T020000
RRULE:FREQ=YEARLY;BYMONTH=11;BYDAY=1SU
END:STANDARD
END:VTIMEZONE
BEGIN:VEVENT
UID:5283893:Event:74214
DTSTAMP:20260422T083140Z
SUMMARY:FREE Webinar: Get More Out of Pay Per Click Campaigns
DESCRIPTION:Get More Out of Pay Per Click Campaigns: We will show you 
 how to rock your PPC campaigns with landing pages and remarketing.  I
 f you want to generate more leads and better quality leads from your o
 wn website, then this workshop is for you!  Did we also mention the s
 trategies we teach will also drive more service business and decrease 
 your advertising cost over the long run? Sign up today and tell your 
 friends about it, but just make sure they are not in your market since
  we won’t be recording this one and so you have to tune in at 1:57 P
 M EST!\nNOTICE: We will be limiting this webinar to the first 467 peop
 le, so once it’s full, that’s it!\n\nFor more information visit ht
 tps://www.dealerelite.net/events/free-webinar-get-more-out-of
DTSTART;TZID=America/New_York:20110407T140000
DTEND;TZID=America/New_York:20110407T143000
CATEGORIES:webinar
LOCATION:Online
WEBSITE:http://exclusivelyautomotive.com/get-more-out-of-pay-per-click
 -campaigns/
URL:http://exclusivelyautomotive.com/get-more-out-of-pay-per-click-cam
 paigns/
CONTACT:
ORGANIZER;CN="Paul Potratz":https://www.dealerelite.net/profile/PaulPo
 tratz
ATTACH;FMTTYPE="image/jpeg":http://storage.ning.com/topology/rest/1.0/
 file/get/2632914777?profile=original
ATTENDEE;ROLE=REQ-PARTICIPANT;PARTSTAT=ACCEPTED;RSVP=TRUE;CN="Courtney
  Boone":https://www.dealerelite.net/profile/CourtneyBoone
ATTENDEE;ROLE=REQ-PARTICIPANT;PARTSTAT=ACCEPTED;RSVP=TRUE;CN="Paul Pot
 ratz":https://www.dealerelite.net/profile/PaulPotratz
END:VEVENT
END:VCALENDAR
