BEGIN:VCALENDAR
PRODID:NingEventWidget-v1
VERSION:2.0
METHOD:PUBLISH
BEGIN:VTIMEZONE
TZID:America/New_York
X-LIC-LOCATION:America/New_York
BEGIN:DAYLIGHT
TZOFFSETFROM:-0500
TZOFFSETTO:-0400
TZNAME:EDT
DTSTART:19700308T020000
RRULE:FREQ=YEARLY;BYMONTH=3;BYDAY=2SU
END:DAYLIGHT
BEGIN:STANDARD
TZOFFSETFROM:-0400
TZOFFSETTO:-0500
TZNAME:EST
DTSTART:19701101T020000
RRULE:FREQ=YEARLY;BYMONTH=11;BYDAY=1SU
END:STANDARD
END:VTIMEZONE
BEGIN:VEVENT
UID:5283893:Event:492710
DTSTAMP:20260424T183958Z
SUMMARY:FREE WEBINAR: How to be Socially AWESOME in 2017!
DESCRIPTION:FACT: Most dealerships are doing social marketing wrong.\n
 It’s true! And it is very likely that your dealership is one of them
 .\nFurthermore, those online missteps are costing your dealership a lo
 t in money, time, effort, man hours and sales.\nIt’s 2017! It’s ti
 me you finally got serious about your social marketing program! ARE YO
 U READY TO LEARN HOW TO ACHIEVE SOCIAL MEDIA AWESOMENESS?\nWe have inv
 ited auto industry veteran Mat Koenig to help us on our journey toward
  social media nirvana. His straight-forward, no nonsense presentation 
 will show how even the most socially awkward dealership can turn thing
 s around and get exceptional social marketing results in no time.\nAtt
 endees of this fast-paced and entertaining webinar will learn:\nWhich 
 social media mistakes are costing you sales right now How to get more 
 social media engagement than your competitors\nHow to get the best ROI
  out of your social media program\nWhich social media strategies are w
 orth it and which are a waste of time\nWhy eliminating connections mig
 ht actually make you more money\nGet ready! This free 1-hour presentat
 ion is going to be jam-packed with everything you need to be Socially 
 AWESOME in 2017! Don’t you dare miss it…Register now!\nPRESENTER: 
 MAT KOENIG is the CEO of KonigCo and Buscador de Auto, helping the bes
 t Car Dealers in the World get even better by focusing on generating f
 irst party opportunities and reaching U.S. Hispanic auto buyers. Mat h
 as served in various sales and leadership roles on the retail side of 
 the business for 12 years before becoming Sales Training Director for 
 one of the largest Automotive Groups in the Midwest. In 2006, he went 
 to work with Cars.com ultimately becoming Sales Training Manager, befo
 re moving on to Edmunds.com where he launched their Direct to Dealer P
 rogram in 2010. A highly sought after presenter, Mat is a regular spea
 ker at events like Digital Dealer, Jim Ziegler’s Internet Battle Pla
 n and Sales Management Super Conference because his real world strateg
 ies are proven to help dealers make more money. Mat is also the Co-fou
 nder of the Rockstar Auto Conference which is taking the industry by s
 torm (RockstarAutoconference.com) and the author of the books Winners 
 & Losers and This Book is For YOU Stupid. And when he isn’t setting 
 the auto industry on fire or making sales tip videos from the road he 
 can be reached at Mat@bdaspanish.com.\n\nFor more information visit ht
 tps://www.dealerelite.net/events/free-webinar-how-to-be-socially-aweso
 me-in-2017
DTSTART;TZID=America/New_York:20170202T120000
DTEND;TZID=America/New_York:20170202T130000
CATEGORIES:webinar, free
LOCATION:http://www.dealeron.com/webinar/socially-awesome-2017/
WEBSITE:http://www.dealeron.com/webinar/socially-awesome-2017/
URL:http://www.dealeron.com/webinar/socially-awesome-2017/
CONTACT:
ORGANIZER;CN="Eliana Raggio":https://www.dealerelite.net/profile/Elian
 aRaggio
ATTACH;FMTTYPE="image/jpeg":http://storage.ning.com/topology/rest/1.0/
 file/get/2633013882?profile=original
END:VEVENT
END:VCALENDAR
