BEGIN:VCALENDAR
PRODID:NingEventWidget-v1
VERSION:2.0
METHOD:PUBLISH
BEGIN:VTIMEZONE
TZID:America/New_York
X-LIC-LOCATION:America/New_York
BEGIN:DAYLIGHT
TZOFFSETFROM:-0500
TZOFFSETTO:-0400
TZNAME:EDT
DTSTART:19700308T020000
RRULE:FREQ=YEARLY;BYMONTH=3;BYDAY=2SU
END:DAYLIGHT
BEGIN:STANDARD
TZOFFSETFROM:-0400
TZOFFSETTO:-0500
TZNAME:EST
DTSTART:19701101T020000
RRULE:FREQ=YEARLY;BYMONTH=11;BYDAY=1SU
END:STANDARD
END:VTIMEZONE
BEGIN:VEVENT
UID:5283893:Event:51017
DTSTAMP:20260423T154052Z
SUMMARY:FREE Webinar -- How to Build a Social Media Strategy for your 
 Dealership
DESCRIPTION:Do you have a Social Media Strategy in place? Not sure how
  or where to begin? Or maybe the old one needs some updating? The old 
 adage of “Failing to Plan is just Planning to Fail” can also be ap
 plied to your Social Media strategy. Progressing within Social Media c
 an be a daunting task if you are not familiar with Social Networking s
 ites. And anxiety can set in if you are not sure how to control or man
 age social media and if you are altogether new to this innovative way 
 of branding and marketing your Dealership. Having a focused strategy w
 ill diminish worries and build on your dealership’s success.\nIn thi
 s one-hour webinar, we will discuss:\n\nhow to make and launch a Socia
 l Media strategy that suits your dealership\nSocial Media time managem
 ent\nThe rules of engagement\nactionable items to properly introduce y
 our dealership into the Social Media world\n\nPresenter:Erin Ryan is a
  Social Media Specialists at TK and can be contacted via e-mail at ery
 an@tkcarsites.com. She has a keen understanding of the power of Social
  Media for business and fervently stays up-to-date with the Social Med
 ia Industry. Furthermore, Erin has been a part of a critically acclaim
 ed weekly Social Media webcast - The Social Blade Show - since the sum
 mer of 2009.\n\nFor more information visit https://www.dealerelite.net
 /events/free-webinar-how-to-build-a
DTSTART;TZID=America/New_York:20110209T120000
DTEND;TZID=America/New_York:20110209T130000
CATEGORIES:free, webinar
LOCATION:http://forms.tkcarsites.com/go/tkcarsites/build-social
WEBSITE:http://forms.tkcarsites.com/go/tkcarsites/build-social
URL:http://forms.tkcarsites.com/go/tkcarsites/build-social
CONTACT:
ORGANIZER;CN="Eliana Raggio":https://www.dealerelite.net/profile/Elian
 aRaggio
ATTACH;FMTTYPE="image/jpeg":http://storage.ning.com/topology/rest/1.0/
 file/get/2632911981?profile=original
ATTENDEE;ROLE=REQ-PARTICIPANT;PARTSTAT=ACCEPTED;RSVP=TRUE;CN="Eliana R
 aggio":https://www.dealerelite.net/profile/ElianaRaggio
END:VEVENT
END:VCALENDAR
