BEGIN:VCALENDAR
PRODID:NingEventWidget-v1
VERSION:2.0
METHOD:PUBLISH
BEGIN:VTIMEZONE
TZID:America/New_York
X-LIC-LOCATION:America/New_York
BEGIN:DAYLIGHT
TZOFFSETFROM:-0500
TZOFFSETTO:-0400
TZNAME:EDT
DTSTART:19700308T020000
RRULE:FREQ=YEARLY;BYMONTH=3;BYDAY=2SU
END:DAYLIGHT
BEGIN:STANDARD
TZOFFSETFROM:-0400
TZOFFSETTO:-0500
TZNAME:EST
DTSTART:19701101T020000
RRULE:FREQ=YEARLY;BYMONTH=11;BYDAY=1SU
END:STANDARD
END:VTIMEZONE
BEGIN:VEVENT
UID:5283893:Event:334141
DTSTAMP:20260423T213444Z
SUMMARY:FREE Webinar: How to Create More Ups and Opportunities Through
  Search and Display
DESCRIPTION:FACT: 95% of the time that people spend on the Internet is
  NOT in a search engine. Yet Dealers are flooding the search engines w
 ith digital marketing — Not always profitably and certainly not very
  effectively. To remain competitive, dealerships need to change their 
 online strategies.\nIn this 1 hour webinar, Duncan Scarry will share t
 he most cutting-edge, effective and profitable digital marketing techn
 iques.\nBONUS – your competitor probably isn’t doing them! • Lea
 rn how Re-Targeting and Display can supercharge your digital marketing
  campaigns & increase conversion rates. • Learn how you can use Re-T
 argeting and Display to generate demand for your products & services a
 nd create a dramatic increase in your search results. • Learn specif
 ic tactics covering creative development, display placement strategies
  & benchmarks for you to measure your success.\nIf your current online
  strategies have stalled, or you simply want to increase your digital 
 marketing ROI, then this is one webinar you can’t afford to miss!\nP
 RIZE ALERT: One (1) Attendee will win FREE SEM services from Haystak D
 igital Marketing for one (1) full year! (That does not include Media.)
  That’s over $14,000 in SEM service fees from the leading SEM provid
 er in the industry!\nPRESENTER: Duncan Scarry is the CEO & Founder of 
 Haystak Digital Marketing, one of only 16 Google Adwords Premier SMB P
 artners in North America and the only SMB Partner that started as a Fu
 ll Service Automotive Advertising Agency. Duncan Scarry is a nationall
 y recognized authority on automotive digital marketing. With over 15 y
 ears of successful offline & online advertising experience, Duncan off
 ers dealers and manufacturers the most effective, progressive automoti
 ve marketing methods. Combining advanced technology with old fashioned
  customer service, Haystak has become the leading provider of digital 
 marketing services to the auto industry. Haystak’s products and serv
 ices are used by numerous publicly traded retailers and Automotive New
 s Top 125 Dealership Groups. Duncan is an avid traveler and can be rea
 ched at Duncan@Haystak.com.\n\nFor more information visit https://www.
 dealerelite.net/events/free-webinar-how-to-create-more-ups-and-opportu
 nities-through
DTSTART;TZID=America/New_York:20121115T120000
DTEND;TZID=America/New_York:20121115T130000
CATEGORIES:webinar, free
LOCATION:http://www.dealeron.com/webinar/events/how-to-create-more-ups
 -and-opportunities-through-search-and-display/
WEBSITE:http://www.dealeron.com/webinar/events/how-to-create-more-ups-
 and-opportunities-through-search-and-display/
URL:http://www.dealeron.com/webinar/events/how-to-create-more-ups-and-
 opportunities-through-search-and-display/
CONTACT:
ORGANIZER;CN="Eliana Raggio":https://www.dealerelite.net/profile/Elian
 aRaggio
ATTACH;FMTTYPE="image/jpeg":http://storage.ning.com/topology/rest/1.0/
 file/get/2632961087?profile=original
ATTENDEE;ROLE=REQ-PARTICIPANT;PARTSTAT=ACCEPTED;RSVP=TRUE;CN="Eliana R
 aggio":https://www.dealerelite.net/profile/ElianaRaggio
END:VEVENT
END:VCALENDAR
