BEGIN:VCALENDAR
PRODID:NingEventWidget-v1
VERSION:2.0
METHOD:PUBLISH
BEGIN:VTIMEZONE
TZID:America/New_York
X-LIC-LOCATION:America/New_York
BEGIN:DAYLIGHT
TZOFFSETFROM:-0500
TZOFFSETTO:-0400
TZNAME:EDT
DTSTART:19700308T020000
RRULE:FREQ=YEARLY;BYMONTH=3;BYDAY=2SU
END:DAYLIGHT
BEGIN:STANDARD
TZOFFSETFROM:-0400
TZOFFSETTO:-0500
TZNAME:EST
DTSTART:19701101T020000
RRULE:FREQ=YEARLY;BYMONTH=11;BYDAY=1SU
END:STANDARD
END:VTIMEZONE
BEGIN:VEVENT
UID:5283893:Event:502919
DTSTAMP:20260419T152944Z
SUMMARY:FREE WEBINAR: How to Execute Thumb Stopping Creative on Facebo
 ok…Like a Boss!
DESCRIPTION:Traditionally, marketers have leveraged print ads to remin
 d consumers of a brand’s message. But the success of a campaign ulti
 mately hinges on using the right creative in the right sequence to ach
 ieve optimal results, whether the metrics for success are driving cons
 umer action or brand awareness.  Now with mobile being the center of 
 discovery, users are scrolling at the speed of light to find what reso
 nates most with them in the digital space. Standing out amongst the cr
 owd becomes increasingly more important.\nThis leaves many in the auto
 motive space asking themselves, “CREATIVE?! I SELL CARS! DOES CREAT
 IVE REALLY MATTER FOR DEALERSHIPS?”\nThe answer is absolutely YES!\
 nTo find out How to Execute Thumb Stopping Creative on Facebook Like 
 a Boss, we’re bringing you the goods direct from Facebook.\nGabriell
 e Garrison is back from Facebook, and this time she’s putting her ar
 tistic hat on!  You won’t want to miss out as she brings you the t
 ips and tricks to capture the attention of in market auto shoppers wit
 h high quality creative!  The best part is, these tips and tricks are
  made to be operable straight from your cell phone!  It doesn’t ta
 ke a full production team to generate top notch creative, and Gabriel
 le will tell you exactly how this is possible.\nThis jam-packed sessio
 n will highlight the opportunities, personas and best practices on
  how to utilize Facebook and Instagram to drive stronger business res
 ults and ad performance with your ad creative, and could very well be
  the thumb stopping opportunity to sell more cars that you have been
  waiting for!\nIf you are ready to hear How to Produce Thumb Stopping
  Creative on Facebook Like a Boss,then don’t you dare miss this must
 -see presentation! Register Now!\nPRESENTER: GABRIELLE GARRISON is on
  Facebook’s Partner Manager Team where she makes sure clients are th
 riving at the forefront of the quickly growing and changing digital la
 ndscape on Facebook. With 7 years in the media business, Gabrielle has
  held positions in all aspects of the advertising space ranging from r
 adio to traditional media and currently digital media. An alumnus of t
 he University of South Florida in Tampa, Gabrielle got her start in ad
 vertising helping small businesses in Tampa succeed in their marketing
  objectives, and later moved to digital advertising for eBay.com helpi
 ng brands such as Progressive, Ford, The Chrysler Group, Ronald McDona
 ld House and State Farm just to name a few. Currently living in Austin
 , Texas, Gabrielle can be reached at www.linkedin.com/in/gabriellegar
 rison.\n\nFor more information visit https://www.dealerelite.net/event
 s/free-webinar-how-to-execute-thumb-stopping-creative-on-facebook
DTSTART;TZID=America/New_York:20170727T120000
DTEND;TZID=America/New_York:20170727T130000
CATEGORIES:webinar, free
LOCATION:http://www.dealeron.com/webinar/execute-thumb-stopping-creati
 ve-facebook/
WEBSITE:http://www.dealeron.com/webinar/execute-thumb-stopping-creativ
 e-facebook/
URL:http://www.dealeron.com/webinar/execute-thumb-stopping-creative-fa
 cebook/
CONTACT:
ORGANIZER;CN="Eliana Raggio":https://www.dealerelite.net/profile/Elian
 aRaggio
ATTACH;FMTTYPE="image/jpeg":http://storage.ning.com/topology/rest/1.0/
 file/get/2633032229?profile=original
ATTENDEE;ROLE=REQ-PARTICIPANT;PARTSTAT=ACCEPTED;RSVP=TRUE;CN="Eliana R
 aggio":https://www.dealerelite.net/profile/ElianaRaggio
END:VEVENT
END:VCALENDAR
