BEGIN:VCALENDAR
PRODID:NingEventWidget-v1
VERSION:2.0
METHOD:PUBLISH
BEGIN:VTIMEZONE
TZID:America/New_York
X-LIC-LOCATION:America/New_York
BEGIN:DAYLIGHT
TZOFFSETFROM:-0500
TZOFFSETTO:-0400
TZNAME:EDT
DTSTART:19700308T020000
RRULE:FREQ=YEARLY;BYMONTH=3;BYDAY=2SU
END:DAYLIGHT
BEGIN:STANDARD
TZOFFSETFROM:-0400
TZOFFSETTO:-0500
TZNAME:EST
DTSTART:19701101T020000
RRULE:FREQ=YEARLY;BYMONTH=11;BYDAY=1SU
END:STANDARD
END:VTIMEZONE
BEGIN:VEVENT
UID:5283893:Event:368353
DTSTAMP:20260423T042021Z
SUMMARY:FREE WEBINAR: How to get 10X Success with Grant Cardone
DESCRIPTION:Join DealerOn & Grant Cardone LIVE from Digital Dealer in 
 Orlando! Wednesday, May 8, 2013 1:30 PM from the DealerOn Booth – #4
 07\nHave you 10X’d your life yet?\nGrant Cardone has…And he is goi
 ng to tell you how!  His name is synonymous with automotive excellenc
 e, business success and the most effective sales strategies around.\nI
 n this 1 hour webinar, Grant Cardone will talk about what you have to 
 do to get the most out of your career – department – income – li
 fe. Topics to be covered include:\n\nHow to get more attention for you
 r brand.\nHow to set goals and achieve them.\nThe biggest mistakes mad
 e with setting goals\nThe difference between successful people, manage
 rs and departments.\nHow to avoid burnout\nHow to balance career and f
 amily…and so much more!\n\nIf you think you are ready to finally get
  10X success in your life — then it goes without saying that this pr
 esentation is an event that simply can’t be missed!\nPRESENTER: Gran
 t Cardone started in the auto business at age 23 and within 2 years wa
 s in the top 1% of car sales. Within the next 10 years he had become a
 n industry name. Today you either know Grant, heard of him or you are 
 brand new to the business. Grant has been talking about the importance
  of giving customers information, transparency and full disclosure lon
 g before customer satisfaction was even a term. He and his companies w
 ere first to market with ePencil, a design tool used by sales managers
 , internet departments and BDCs to provide customers with information,
  choices and comparisons. It has proven almost impossible for most to 
 segue from the auto industry into other verticals but Grant has done s
 o with ease. Grant has not only positively influenced the auto industr
 y, he is also sharing his expertise with other industries: boats, RVs,
  furniture, banks, and retail stores are using his sales approaches. M
 ost notably, Grant Cardone is also a New York Times best-selling autho
 r, host of his own radio show, The Cardone Zone, and executive produce
 r of TV’s Turn Around King. Grant shares his techniques with organiz
 ations such as Morgan Stanley, Google and even the US Army and you can
  find out more at www.GrantCardone.com.\n\nFor more information visit 
 https://www.dealerelite.net/events/free-webinar-how-to-get-10x-success
 -with-grant-cardone
DTSTART;TZID=America/New_York:20130508T133000
DTEND;TZID=America/New_York:20130508T143000
CATEGORIES:webinar, free
LOCATION:http://www.dealeron.com/webinar/events/how-to-get-10x-success
 -with-grant-cardone/
WEBSITE:http://www.dealeron.com/webinar/events/how-to-get-10x-success-
 with-grant-cardone/
URL:http://www.dealeron.com/webinar/events/how-to-get-10x-success-with
 -grant-cardone/
CONTACT:
ORGANIZER;CN="Eliana Raggio":https://www.dealerelite.net/profile/Elian
 aRaggio
ATTACH;FMTTYPE="image/jpeg":http://storage.ning.com/topology/rest/1.0/
 file/get/2632970395?profile=original
ATTENDEE;ROLE=REQ-PARTICIPANT;PARTSTAT=ACCEPTED;RSVP=TRUE;CN="Eliana R
 aggio":https://www.dealerelite.net/profile/ElianaRaggio
END:VEVENT
END:VCALENDAR
