BEGIN:VCALENDAR
PRODID:NingEventWidget-v1
VERSION:2.0
METHOD:PUBLISH
BEGIN:VTIMEZONE
TZID:America/New_York
X-LIC-LOCATION:America/New_York
BEGIN:DAYLIGHT
TZOFFSETFROM:-0500
TZOFFSETTO:-0400
TZNAME:EDT
DTSTART:19700308T020000
RRULE:FREQ=YEARLY;BYMONTH=3;BYDAY=2SU
END:DAYLIGHT
BEGIN:STANDARD
TZOFFSETFROM:-0400
TZOFFSETTO:-0500
TZNAME:EST
DTSTART:19701101T020000
RRULE:FREQ=YEARLY;BYMONTH=11;BYDAY=1SU
END:STANDARD
END:VTIMEZONE
BEGIN:VEVENT
UID:5283893:Event:497519
DTSTAMP:20260423T121823Z
SUMMARY:FREE WEBINAR: How to Get Maximum Profits from Your Trade-in Le
 ads
DESCRIPTION:FACT: 82% of car shoppers have a trade-in. However,Â 32% o
 f trade-insÂ offered to car dealersÂ are under-waterâ€¦and the trend i
 s on the rise.\nAll dealers know how important the trade-in process is
  toÂ closing more deals. After all, when done right,Â trade-ins can be
  a huge revenue streamÂ for the dealership. Conversely,Â missteps duri
 ng the appraisal process can lead to time wasted, negative equity, and
  even lost sales.\nWHEN IT COMES TO TRADE-INS,Â HOW DO YOU BALANCE SPE
 ED & ACCURACY WITH TRANSPARENCY & PROFIT?\nIn this eye-opening 1 hour 
 webinar, e-commerce expert Barry Brodsky is going to teach us all how 
 toÂ maximize conversions, sales and grossÂ from your trade-in leads. A
 ttendees of this fast paced presentation will learn:\n\nThe right way 
 to set proper expectations and give full transparency\nThe quickest an
 d easiest onlineÂ estimatingÂ tools\nHow your online trade-in forms co
 uld make you or break you\nHow to provide accurate trade-in values in 
 just 90 seconds!\n\nIs your head in the trade-in game? If you want toÂ
  sell more cars and make more money, it had better be! If you are read
 y to learnÂ How to Get Maximum Profits from Your Trade-in Leadsthen yo
 u simply canâ€™t afford to miss this important presentation! Register 
 Now!\nPRESENTER: BARRY BRODSKYÂ is President and Founder of eAutoAppra
 ise, which delivers website amplifiers and innovative web products to 
 help new and used car dealers improve the car shopping, purchasing and
  ownership experience for their customers. A 22 year veteran of the re
 tail automotive industry, Barry provides an exceptional balance of lea
 dership experience, broad operational and marketing skills, and extens
 ive proficiency in automotive e-commerce. Prior to eAutoAppraise, Barr
 yâ€™s other notable career highlights include helping to launch the po
 rtal website carsoup.com and his varied responsibilities as co-founder
  and principal leader of Netsearch. Barry is a frequent speaker at med
 ia industry events, holds a degree in Automotive Management from North
 wood University and he can be reached at Barry@eautoappraise.com.\n\nF
 or more information visit https://www.dealerelite.net/events/free-webi
 nar-how-to-get-maximum-profits-from-your-trade-in-leads
DTSTART;TZID=America/New_York:20170330T120000
DTEND;TZID=America/New_York:20170330T130000
CATEGORIES:webinar, free
LOCATION:http://www.dealeron.com/webinar/how-to-get-maximum-profits-fr
 om-your-trade-in-leads/
WEBSITE:http://www.dealeron.com/webinar/how-to-get-maximum-profits-fro
 m-your-trade-in-leads/
URL:http://www.dealeron.com/webinar/how-to-get-maximum-profits-from-yo
 ur-trade-in-leads/
CONTACT:
ORGANIZER;CN="Eliana Raggio":https://www.dealerelite.net/profile/Elian
 aRaggio
ATTACH;FMTTYPE="image/jpeg":http://storage.ning.com/topology/rest/1.0/
 file/get/2633031748?profile=original
ATTENDEE;ROLE=REQ-PARTICIPANT;PARTSTAT=ACCEPTED;RSVP=TRUE;CN="Eliana R
 aggio":https://www.dealerelite.net/profile/ElianaRaggio
END:VEVENT
END:VCALENDAR
