BEGIN:VCALENDAR
PRODID:NingEventWidget-v1
VERSION:2.0
METHOD:PUBLISH
BEGIN:VTIMEZONE
TZID:America/New_York
X-LIC-LOCATION:America/New_York
BEGIN:DAYLIGHT
TZOFFSETFROM:-0500
TZOFFSETTO:-0400
TZNAME:EDT
DTSTART:19700308T020000
RRULE:FREQ=YEARLY;BYMONTH=3;BYDAY=2SU
END:DAYLIGHT
BEGIN:STANDARD
TZOFFSETFROM:-0400
TZOFFSETTO:-0500
TZNAME:EST
DTSTART:19701101T020000
RRULE:FREQ=YEARLY;BYMONTH=11;BYDAY=1SU
END:STANDARD
END:VTIMEZONE
BEGIN:VEVENT
UID:5283893:Event:499844
DTSTAMP:20260422T115313Z
SUMMARY:FREE WEBINAR: How to Give Awesome Sales Team Training in only 
 10 Minutes a Day!
DESCRIPTION:FACT: EMPLOYEE TURNOVER IS WORSENING\nAccording to the 20
 16 NADA Dealership Workforce Study, retention is on a steep declinewi
 th 67% of dealership employees leaving before 3 years.  Experts attr
 ibute this staggering statistic to lack of training, knowledge and/or 
 coaching at the dealership level.\nDO YOU WANT TO REDUCE TURNOVER, RE
 TAIN GOOD EMPLOYEES, AND SEE PEOPLE THRIVE IN A LONG-LASTING CAREER AT
  YOUR DEALERSHIP?\nYeah you do!\nJennifer Suzuki has been training at 
 the NADA Academy for the last 3 years and will teach you how to easily
  develop powerful time-efficient training sessions that avoid burnout
 . Attendees of this incredible 1 hour webinar will learn how to:\n\nDe
 velop a curriculum to build skill sets that is easy to retain and i
 mplement\nSuccessfully apply a practical format that ensures a valuab
 le 10-minute or less training session\nEffectively engage your team th
 rough helpful activities and productive questions\n\nA happy, well-tr
 ained and fully motivated staff leads to improved productivity, bigg
 er earnings, and increased dealership profitability. That is a WIN-W
 IN-WIN for your organization, your employees, and your bottom line!\nI
 f you want to ensure people on your sales team have the tools to thriv
 e and succeed and are ready to learn How to Give Awesome Sales Team
  Training in only 10 Minutes a Day, then don’t you dare miss this p
 resentation! Register now!\nPRESENTER: Jennifer Suzuki is the Founde
 r & President of e-Dealer Solutions, Inc., an award-winning Education 
 and Activity Based Training Company focused on improving dealership sh
 owed appointments, sales and management process. Her 21 years of exper
 ience includes: President, e-Dealer Solutions, In-Dealership Sales Tra
 iner, 3 year Guest Instructor at NADA Academy, NADA Multi-Year Convent
 ion Speaker, OEM, State Association, Twenty-Group Speaker, and Northwo
 od University Graduate. She has a tremendous reputation for delivering
  significant success to dealerships looking for up-to-date phone skill
 s and profitable actions that convert non-present buyers to showroom c
 ustomers. She can be reached at Jennifer@edealersolution.com or text 9
 54.873.8029.\n\nFor more information visit https://www.dealerelite.net
 /events/free-webinar-how-to-give-awesome-sales-team-training-in-only-1
 0
DTSTART;TZID=America/New_York:20170601T120000
DTEND;TZID=America/New_York:20170601T130000
CATEGORIES:webinar, free
LOCATION:http://www.dealeron.com/webinar/give-awesome-sales-team-train
 ing-10-minutes-day/
WEBSITE:http://www.dealeron.com/webinar/give-awesome-sales-team-traini
 ng-10-minutes-day/
URL:http://www.dealeron.com/webinar/give-awesome-sales-team-training-1
 0-minutes-day/
CONTACT:
ORGANIZER;CN="Eliana Raggio":https://www.dealerelite.net/profile/Elian
 aRaggio
ATTACH;FMTTYPE="image/jpeg":http://storage.ning.com/topology/rest/1.0/
 file/get/2633032734?profile=original
ATTENDEE;ROLE=REQ-PARTICIPANT;PARTSTAT=ACCEPTED;RSVP=TRUE;CN="Eliana R
 aggio":https://www.dealerelite.net/profile/ElianaRaggio
END:VEVENT
END:VCALENDAR
