BEGIN:VCALENDAR
PRODID:NingEventWidget-v1
VERSION:2.0
METHOD:PUBLISH
BEGIN:VTIMEZONE
TZID:America/New_York
X-LIC-LOCATION:America/New_York
BEGIN:DAYLIGHT
TZOFFSETFROM:-0500
TZOFFSETTO:-0400
TZNAME:EDT
DTSTART:19700308T020000
RRULE:FREQ=YEARLY;BYMONTH=3;BYDAY=2SU
END:DAYLIGHT
BEGIN:STANDARD
TZOFFSETFROM:-0400
TZOFFSETTO:-0500
TZNAME:EST
DTSTART:19701101T020000
RRULE:FREQ=YEARLY;BYMONTH=11;BYDAY=1SU
END:STANDARD
END:VTIMEZONE
BEGIN:VEVENT
UID:5283893:Event:321730
DTSTAMP:20260423T033028Z
SUMMARY:FREE WEBINAR: How to Make a Great Branding Video in 5 Minutes
DESCRIPTION:Video is the future – and it’s finally catching on in 
 the automotive world as a sales person’s most powerful sales tool. A
 fter all, what car shopper wouldn’t love a personalized video? Howev
 er, many Internet Departments find it difficult to make effective, eye
 -catching videos without hiring an outside vendor. The major complaint
 s are that it costs too much money and takes too much time. But what i
 f it didn’t?\nElise Kephart, “The YouTube Diva”, has rightfully 
 earned national acclaim for using video for branding and marketing to 
 instantly gain the prospect’s attention, dramatically increase her c
 losing ratio and sell a ridiculous amount of cars. She will show you e
 xactly how she does it. Attendees will learn step-by-step how to creat
 e an amazing YouTube video that will be personalized specifically for 
 an internet lead and ready to email… in 5 minutes!All videos demonst
 rated are unique, memorable and bring value to every customer.\nIf you
  are searching for a way to make your dealership stand out and absolut
 ely dominate your market, then don’t miss this free 1-hour webinar!\
 nPRESENTER: Elise Kephart is a sales and marketing phenomenon in the a
 utomobile business and is nationally recognized as \"The YouTube Diva\
 ". Since 2007 Elise has sold thousands of vehicles through personable 
 and persuasive sales and marketing videos - personalized for every cus
 tomer, creating a strong bond and trust. Elise has presented at semina
 rs nationwide, including the Spring 2012 Digital Dealer conference in 
 Orlando, where she has consistently 'wowed' the audience by teaching h
 ow to create and edit quick and effective videos and deliver them to c
 ustomers within minutes. Elise has been repeatedly praised by the like
 s of Digital Dealer Magazine, Jim Ziegler and Grant Cardone for her cr
 eative marketing in the automotive industry. She's even traveled acros
 s the country with Jim Ziegler training internet departments. Elise is
  currently a top performing Salesperson at Sunset Honda and she can be
  reached at elisekephart@yahoo.com.\n\nFor more information visit http
 s://www.dealerelite.net/events/free-webinar-how-to-make-a-great-brandi
 ng-video-in-5-minutes
DTSTART;TZID=America/New_York:20121011T120000
DTEND;TZID=America/New_York:20121011T130000
CATEGORIES:webinar, free
LOCATION:http://www.dealeron.com/webinar/events/how-to-make-a-great-br
 anding-video-in-5-minutes/
WEBSITE:http://www.dealeron.com/webinar/events/how-to-make-a-great-bra
 nding-video-in-5-minutes/
URL:http://www.dealeron.com/webinar/events/how-to-make-a-great-brandin
 g-video-in-5-minutes/
CONTACT:
ORGANIZER;CN="Eliana Raggio":https://www.dealerelite.net/profile/Elian
 aRaggio
ATTACH;FMTTYPE="image/jpeg":http://storage.ning.com/topology/rest/1.0/
 file/get/2632954482?profile=original
ATTENDEE;ROLE=REQ-PARTICIPANT;PARTSTAT=ACCEPTED;RSVP=TRUE;CN="Rebecca 
 Williamson":https://www.dealerelite.net/profile/RebeccaWilliamson
ATTENDEE;ROLE=REQ-PARTICIPANT;PARTSTAT=ACCEPTED;RSVP=TRUE;CN="Eliana R
 aggio":https://www.dealerelite.net/profile/ElianaRaggio
END:VEVENT
END:VCALENDAR
