BEGIN:VCALENDAR
PRODID:NingEventWidget-v1
VERSION:2.0
METHOD:PUBLISH
BEGIN:VTIMEZONE
TZID:America/New_York
X-LIC-LOCATION:America/New_York
BEGIN:DAYLIGHT
TZOFFSETFROM:-0500
TZOFFSETTO:-0400
TZNAME:EDT
DTSTART:19700308T020000
RRULE:FREQ=YEARLY;BYMONTH=3;BYDAY=2SU
END:DAYLIGHT
BEGIN:STANDARD
TZOFFSETFROM:-0400
TZOFFSETTO:-0500
TZNAME:EST
DTSTART:19701101T020000
RRULE:FREQ=YEARLY;BYMONTH=11;BYDAY=1SU
END:STANDARD
END:VTIMEZONE
BEGIN:VEVENT
UID:5283893:Event:497688
DTSTAMP:20260423T011608Z
SUMMARY:FREE WEBINAR: How to Move More Metal with Predictive Analytics
DESCRIPTION:Just in case you hadn’t heard, PREDICTIVE ANALYTICS ARE
  THE HOTTEST THING IN THE AUTOMOTIVE INDUSTRY RIGHT NOW!\nWhen car bu
 yers “kick the tires” on your website, every online action drops h
 ints on what car they will eventually buy. Gathering and measuring th
 e right analytics, will allow you to more accurately predict which ca
 rs will sell in the next few days… and which are likely to sit on yo
 ur lot for a while.\nSimply put, PREDICTIVE ANALYTICS HELP DEALERS SE
 LL MORE CARS – FASTER – AND MORE PROFITABLY.\nJoin this fascinatin
 g 1 hour webinar with Predictive Analytics Expert, Noah John. He will 
 provide an essential comprehensive step-by-step walkthrough for anyo
 ne who wants to know which cars in their inventory have a strong lik
 elihood to sell…and which cars don’t.He will also share an actual 
 example of how to predict your inventory car sales using your Google 
 Analytics account and a little math. Attendees of this jam-packed pres
 entation will learn:\n\nWhy predictive analytics is critical to impro
 ving your bottom line.\nHow customers’ online click patterns reveal 
 their buying intentions before entering a dealership.\nTo supercharge
  your Google Analytics to capture 30-40 times more valuable action fr
 om online customers.\nTo create a simple mathematical model that predi
 cts car sales using Google Analytics data\nThe limitations to these pr
 edictions and how to improve accuracy.\n\nBUCKLE UP, PEOPLE! THE FUTUR
 E IS NOW!\nIf you are ready to learn How to Move More Metal with Pr
 edictive Analytics, then you simply can’t afford to miss this incred
 ible presentation! Register now!\nPRESENTER: NOAH JOHN is the co-foun
 der of Autoscores, a predictive analytics company that helps car deale
 rships forecast their inventory car sales with industry-leading accura
 cy by analyzing all customer behavior on their VDPs. Before Autoscores
 , Noah was a software engineer at EA Sports. He has BAs in computer sc
 ience and mathematics from Rollins College and a MS in computer scienc
 e from Colorado State University. His graduate work included machine l
 earning, neural networks, and computer science education. Noah has bee
 n an avid traveler since graduating college and lived in Spain and Sou
 th America for close to 3 years. He also has a habit of hiking the hig
 hest mountain in any area he lives. He can be reached at noah@autoscor
 es.com.\n\nFor more information visit https://www.dealerelite.net/even
 ts/free-webinar-how-to-move-more-metal-with-predictive-analytics
DTSTART;TZID=America/New_York:20170427T120000
DTEND;TZID=America/New_York:20170427T130000
CATEGORIES:webinar, free
LOCATION:http://www.dealeron.com/webinar/move-metal-predictive-analyti
 cs/
WEBSITE:http://www.dealeron.com/webinar/move-metal-predictive-analytic
 s/
URL:http://www.dealeron.com/webinar/move-metal-predictive-analytics/
CONTACT:
ORGANIZER;CN="Eliana Raggio":https://www.dealerelite.net/profile/Elian
 aRaggio
ATTACH;FMTTYPE="image/jpeg":http://storage.ning.com/topology/rest/1.0/
 file/get/2633030883?profile=original
ATTENDEE;ROLE=REQ-PARTICIPANT;PARTSTAT=ACCEPTED;RSVP=TRUE;CN="Eliana R
 aggio":https://www.dealerelite.net/profile/ElianaRaggio
END:VEVENT
END:VCALENDAR
