BEGIN:VCALENDAR
PRODID:NingEventWidget-v1
VERSION:2.0
METHOD:PUBLISH
BEGIN:VTIMEZONE
TZID:America/New_York
X-LIC-LOCATION:America/New_York
BEGIN:DAYLIGHT
TZOFFSETFROM:-0500
TZOFFSETTO:-0400
TZNAME:EDT
DTSTART:19700308T020000
RRULE:FREQ=YEARLY;BYMONTH=3;BYDAY=2SU
END:DAYLIGHT
BEGIN:STANDARD
TZOFFSETFROM:-0400
TZOFFSETTO:-0500
TZNAME:EST
DTSTART:19701101T020000
RRULE:FREQ=YEARLY;BYMONTH=11;BYDAY=1SU
END:STANDARD
END:VTIMEZONE
BEGIN:VEVENT
UID:5283893:Event:502915
DTSTAMP:20260419T220345Z
SUMMARY:FREE WEBINAR: How to Pump Up Your Video Strategy TODAY!
DESCRIPTION:ARE YOUR CURRENT DEALERSHIP VIDEOS DRIVING TRAFFIC AND CON
 VERSIONS…OR ARE THEY FALLING FLAT?\nIf you are looking to quickly b
 oost your online traffic and conversions, there’s no better place t
 o start than with video!\nUnlikely viral video star Andrew Myers knows
  a thing or two about the power of video. He is ready to tell dealers
  How to Pump Up your Video Strategy with a few well made, well place
 d and content-crammed videos.\nIn this fast-paced 1 hour webinar, you 
 will learn how to create and implement engaging sales oriented videos
  in the 4 critical areas of the digital funnel where they can affec
 t the most change. Attendees will also learn the key types of videos
 that you need to:\n\nCreate a branding message that is not ‘vehicle
  obsessed’\nBuild value in your dealership, processes, people and gu
 est experience\nActually influence customers rather than just market t
 o them\n\nThis presentation is guaranteed to leave you with crucial t
 akeaways and practical advice on how to use video to truly promote you
 r dealership’s value propositions online. This hard hitting session
  will highlight real examples, real videos, and most importantly…re
 al results!\nImproved traffic and better conversions may only be a vid
 eo away!\nIf you are ready to learn How to Pump Up Your Video Strateg
 y TODAY, then don’t you dare miss this presentation! Register Now!\n
 PRESENTER: ANDREW MYERS, (aka “Mr. Wrong House”) is Co-Owner for 
 What’s Next Media, an automotive video company that delivers immedia
 te results for their dealer clients by making powerful and unique mess
 age-based video programs. Andrew began his career selling door-to-door
  and eventually at automotive-staffed event sales where controlling th
 e customer’s attention and moving them through the process are the o
 nly ways to be successful. Andrew left this successful position in the
  automotive industry when he discovered a unique way to build more con
 trol with digital customers by using the power of video. His current p
 assion is building eye-catching video and valuable content to “slow 
 the customer down” and offer compelling reasons to buy throughout th
 e online sales process. Andrew is a lifelong sales-person with a passi
 on for influencing customer decisions and mastering new ways to contro
 l the sales process and he can be reached at amyers@whatsnext.pro.\n\n
 For more information visit https://www.dealerelite.net/events/free-web
 inar-how-to-pump-up-your-video-strategy-today
DTSTART;TZID=America/New_York:20170713T120000
DTEND;TZID=America/New_York:20170713T130000
CATEGORIES:webinar, free
LOCATION:http://www.dealeron.com/webinar/pump-video-strategy-today/
WEBSITE:http://www.dealeron.com/webinar/pump-video-strategy-today/
URL:http://www.dealeron.com/webinar/pump-video-strategy-today/
CONTACT:
ORGANIZER;CN="Eliana Raggio":https://www.dealerelite.net/profile/Elian
 aRaggio
ATTACH;FMTTYPE="image/jpeg":http://storage.ning.com/topology/rest/1.0/
 file/get/2633034116?profile=original
ATTENDEE;ROLE=REQ-PARTICIPANT;PARTSTAT=ACCEPTED;RSVP=TRUE;CN="Eliana R
 aggio":https://www.dealerelite.net/profile/ElianaRaggio
ATTENDEE;ROLE=REQ-PARTICIPANT;PARTSTAT=TENTATIVE;RSVP=TRUE;CN="Chris T
 ennant":https://www.dealerelite.net/profile/ChrisTennant
END:VEVENT
END:VCALENDAR
