BEGIN:VCALENDAR
PRODID:NingEventWidget-v1
VERSION:2.0
METHOD:PUBLISH
BEGIN:VTIMEZONE
TZID:America/New_York
X-LIC-LOCATION:America/New_York
BEGIN:DAYLIGHT
TZOFFSETFROM:-0500
TZOFFSETTO:-0400
TZNAME:EDT
DTSTART:19700308T020000
RRULE:FREQ=YEARLY;BYMONTH=3;BYDAY=2SU
END:DAYLIGHT
BEGIN:STANDARD
TZOFFSETFROM:-0400
TZOFFSETTO:-0500
TZNAME:EST
DTSTART:19701101T020000
RRULE:FREQ=YEARLY;BYMONTH=11;BYDAY=1SU
END:STANDARD
END:VTIMEZONE
BEGIN:VEVENT
UID:5283893:Event:499785
DTSTAMP:20260420T034631Z
SUMMARY:FREE WEBINAR: How to Reduce Time to Market: From Concept to Re
 sults
DESCRIPTION:As business leaders, we understand speed and efficiency d
 rive profits. However, there are still challenges to reduce the amou
 nt of time to get a car online, fully merchandised.\nAfter all, EVERY 
 DAY A CAR ISN’T ONLINE COSTS YOU TIME AND MONEY!\nAre you getting th
 e most of out of your online inventory and are you measuring the resul
 ts?\nIn this exciting 1 hour webinar, Russ Daniels from the company th
 at knows more about online inventory than anyone else, HomeNet, will s
 hare proven metrics and cutting edge techniques about online merchand
 ising that will cut down your online time to market. He will discuss
  how to enhance online vehicle merchandising and distribution process
 es to improve speed, efficiency, and profits. Additionally, attendee
 s will learn about current industry trends, updated merchandising t
 echnology and best practices to get your inventory fully merchandised 
 in less time…so you see more profits!\nGet ready for another Hour
  of Automotive Awesomeness!\nIf you want to learn How to Reduce Time
  to Market: From Concept to Results, then you simply can’t afford t
 o miss this presentation! Register Now!\nPRESENTER: Russ Daniels is t
 he Senior Manager, Product Marketing for HomeNet, the only provider of
  a unified platform that helps dealers save time and sell more cars by
  getting inventory out of your system and in front of online shoppers.
   Russ has a strong background with Inventory Software products, hold
 ing leadership roles in Product, Marketing, Training, and Operations a
 t HomeNet and Cox Automotive.  His primary focus over the past few ye
 ars has been working with HomeNet Sales and Business Development teams
  to launch innovative merchandising and syndication product offerings 
 for dealers and platform partners. As the Senior Manager, Product Mar
 keting, Russ works to understand core business as well as unmet and un
 realized market needs, serving as the “voice of the customer” to u
 nderstand dealer needs in the effort to discover and deliver product o
 fferings that are valuable, desirable, usable and feasible. Russ can b
 e reached at Russ.Daniels@homenetauto.com.\n\nFor more information vis
 it https://www.dealerelite.net/events/free-webinar-how-to-reduce-time-
 to-market-from-concept-to-results
DTSTART;TZID=America/New_York:20170629T120000
DTEND;TZID=America/New_York:20170629T130000
CATEGORIES:webinar, free
LOCATION:http://www.dealeron.com/webinar/reduce-time-market-concept-re
 sults/
WEBSITE:http://www.dealeron.com/webinar/reduce-time-market-concept-res
 ults/
URL:http://www.dealeron.com/webinar/reduce-time-market-concept-results
 /
CONTACT:
ORGANIZER;CN="Eliana Raggio":https://www.dealerelite.net/profile/Elian
 aRaggio
ATTACH;FMTTYPE="image/jpeg":http://storage.ning.com/topology/rest/1.0/
 file/get/2633012198?profile=original
ATTENDEE;ROLE=REQ-PARTICIPANT;PARTSTAT=ACCEPTED;RSVP=TRUE;CN="Eliana R
 aggio":https://www.dealerelite.net/profile/ElianaRaggio
END:VEVENT
END:VCALENDAR
