BEGIN:VCALENDAR
PRODID:NingEventWidget-v1
VERSION:2.0
METHOD:PUBLISH
BEGIN:VTIMEZONE
TZID:America/New_York
X-LIC-LOCATION:America/New_York
BEGIN:DAYLIGHT
TZOFFSETFROM:-0500
TZOFFSETTO:-0400
TZNAME:EDT
DTSTART:19700308T020000
RRULE:FREQ=YEARLY;BYMONTH=3;BYDAY=2SU
END:DAYLIGHT
BEGIN:STANDARD
TZOFFSETFROM:-0400
TZOFFSETTO:-0500
TZNAME:EST
DTSTART:19701101T020000
RRULE:FREQ=YEARLY;BYMONTH=11;BYDAY=1SU
END:STANDARD
END:VTIMEZONE
BEGIN:VEVENT
UID:5283893:Event:494108
DTSTAMP:20260423T140247Z
SUMMARY:FREE WEBINAR: How to Sell Cars and Advertise on Facebook Like 
 a Boss 2.0
DESCRIPTION:Facebook is far and away the most popular social networkin
 g site in the world and when they made advertising opportunities avail
 able to businesses a few years ago it left many dealerships wonderingâ
 €¦\nCAN YOU ACTUALLY ACHIEVE REAL BUSINESS RESULTS WITH FACEBOOK ADVER
 TISING?\nThe answer is absolutely YES!\nTo find out How to Sell Cars a
 nd Advertise on Facebook Like a Boss 2.0, weâ€™re bringing you the goo
 ds direct from Facebook.\nGabrielle Garrison from Facebook will introd
 uce a variety of different tools and tricks that will take your Facebo
 ok campaigns to the next level. In this exciting 1 hour webinar, she w
 ill discuss in detail whatâ€™s new and hot as well as trends on Facebo
 ok that you need to be ready for in 2017.\nThis is not your basic webi
 nar for beginners. This is an advanced presentation about Facebook Adv
 ertising that has the potential to put you in the fast lane of automot
 ive digital marketing.\nThis jam-packed session will highlight the opp
 ortunities on how to utilize Facebook to dramatically increase online 
 results and measure offline sales for your Sales Department and could 
 very well be the Social Media Game-Changer that you have been waiting 
 for!\nIf you are ready to hear How to Sell Cars and Advertise on Faceb
 ook Like a Boss, then donâ€™t you dare miss this must-see presentation
 ! Register Now!\nPRESENTER: GABRIELLE GARRISON is on Facebookâ€™s Part
 ner Manager Team where she makes sure clients are thriving at the fore
 front of the quickly growing and changing digital landscape on Faceboo
 k. With 7 years in the media business, Gabrielle has held positions in
  all aspects of the advertising space ranging from radio to traditiona
 l media and currently digital media. An alumnus of the University of S
 outh Florida in Tampa, Gabrielle got her start in advertising helping 
 small businesses in Tampa succeed in their marketing objectives, and l
 ater moved to digital advertising for eBay.com helping brands such as 
 Progressive, Ford, The Chrysler Group, Ronald McDonald House and State
  Farm just to name a few. Currently living in Austin, Texas, Gabrielle
  can be reached at linkedin.com/in/gabriellegarrison.\n\nFor more info
 rmation visit https://www.dealerelite.net/events/free-webinar-how-to-s
 ell-cars-and-advertise-on-facebook-like-a-1
DTSTART;TZID=America/New_York:20170323T120000
DTEND;TZID=America/New_York:20170323T130000
CATEGORIES:webinar, free
LOCATION:http://www.dealeron.com/webinar/sell-cars-advertise-on-facebo
 ok-2-0/
WEBSITE:http://www.dealeron.com/webinar/sell-cars-advertise-on-faceboo
 k-2-0/
URL:http://www.dealeron.com/webinar/sell-cars-advertise-on-facebook-2-
 0/
CONTACT:
ORGANIZER;CN="Eliana Raggio":https://www.dealerelite.net/profile/Elian
 aRaggio
ATTACH;FMTTYPE="image/jpeg":http://storage.ning.com/topology/rest/1.0/
 file/get/2633028937?profile=original
ATTENDEE;ROLE=REQ-PARTICIPANT;PARTSTAT=ACCEPTED;RSVP=TRUE;CN="Karen Ge
 ohagan":https://www.dealerelite.net/profile/KarenGeohagan
ATTENDEE;ROLE=REQ-PARTICIPANT;PARTSTAT=ACCEPTED;RSVP=TRUE;CN="Dan W":h
 ttps://www.dealerelite.net/profile/DanW
ATTENDEE;ROLE=REQ-PARTICIPANT;PARTSTAT=ACCEPTED;RSVP=TRUE;CN="Jenny Wa
 gner":https://www.dealerelite.net/profile/JennyWagner
ATTENDEE;ROLE=REQ-PARTICIPANT;PARTSTAT=ACCEPTED;RSVP=TRUE;CN="A. J. Ma
 ida":https://www.dealerelite.net/profile/AJMaida
ATTENDEE;ROLE=REQ-PARTICIPANT;PARTSTAT=ACCEPTED;RSVP=TRUE;CN="Mark Sta
 nton":https://www.dealerelite.net/profile/MarkStanton
ATTENDEE;ROLE=REQ-PARTICIPANT;PARTSTAT=ACCEPTED;RSVP=TRUE;CN="Pete Cla
 rk":https://www.dealerelite.net/profile/PeteClark
ATTENDEE;ROLE=REQ-PARTICIPANT;PARTSTAT=ACCEPTED;RSVP=TRUE;CN="Eliana R
 aggio":https://www.dealerelite.net/profile/ElianaRaggio
END:VEVENT
END:VCALENDAR
