BEGIN:VCALENDAR
PRODID:NingEventWidget-v1
VERSION:2.0
METHOD:PUBLISH
BEGIN:VTIMEZONE
TZID:America/New_York
X-LIC-LOCATION:America/New_York
BEGIN:DAYLIGHT
TZOFFSETFROM:-0500
TZOFFSETTO:-0400
TZNAME:EDT
DTSTART:19700308T020000
RRULE:FREQ=YEARLY;BYMONTH=3;BYDAY=2SU
END:DAYLIGHT
BEGIN:STANDARD
TZOFFSETFROM:-0400
TZOFFSETTO:-0500
TZNAME:EST
DTSTART:19701101T020000
RRULE:FREQ=YEARLY;BYMONTH=11;BYDAY=1SU
END:STANDARD
END:VTIMEZONE
BEGIN:VEVENT
UID:5283893:Event:487222
DTSTAMP:20260425T210859Z
SUMMARY:FREE WEBINAR:: How to Sell Cars and Advertise on Facebook Like
  a Boss
DESCRIPTION:Facebook is far and away the most popular social networkin
 g site in the world and when they made advertising opportunities avail
 able to businesses a few years ago it left many dealerships wonderingâ
 €¦\nCAN YOU ACTUALLY ACHIEVE REAL BUSINESS RESULTS WITH FACEBOOK ADVER
 TISING?\nThe answer is absolutely YES!\nTo find outÂ How to Sell Cars 
 and Advertise on Facebook Like a Boss, weâ€™re bringing you the goods 
 direct from Facebook.\nGabrielle Garrison from Facebook will help youÂ
  strategize a variety of different advertising objectivesÂ toÂ build a
  successful and comprehensive Facebook strategyÂ that willÂ keep your 
 sales funnel fullÂ andÂ boost your bottom line. In this exciting 1 hou
 r webinar, she will discuss in detail all theÂ Facebook advertising so
 lutions that can help you reach car buyers no matter where they are in
  the buying cycle,Â from over a year before their purchase through pos
 t-sale retargeting.\nThis jam-packed session will highlight theÂ oppor
 tunitiesÂ andÂ best practicesÂ on how toÂ utilize Facebook toÂ dramati
 cally increase online results for your Sales DepartmentÂ and could ver
 y well be theÂ Social Media Game-ChangerÂ that you have been waiting f
 or!\nIf you are ready to hearÂ How to Sell Cars and Advertise on Faceb
 ook Like a Boss,Â then donâ€™t you dare miss this must-see presentatio
 n! Register Now!\nPRESENTER: GABRIELLE GARRISONÂ is on Facebookâ€™s Pa
 rtner Manager Team where she makes sure clients are thriving at the fo
 refront of the quickly growing and changing digital landscape on Faceb
 ook. With 7 years in the media business, Gabrielle has held positions 
 in all aspects of the advertising space ranging from radio to traditio
 nal media and currently digital media. An alumnus of the University of
  South Florida in Tampa, Gabrielle got her start in advertising helpin
 g small businesses in Tampa succeed in their marketing objectives, and
  later moved to digital advertising for eBay.com helping brands such a
 s Progressive, Ford, The Chrysler Group, Ronald McDonald House and Sta
 te Farm just to name a few. Currently living in Austin, Texas, Gabriel
 le can be reached at www.linkedin.com/in/gabriellegarrison.\n\nFor mor
 e information visit https://www.dealerelite.net/events/free-webinar-ho
 w-to-sell-cars-and-advertise-on-facebook-like-a
DTSTART;TZID=America/New_York:20161208T120000
DTEND;TZID=America/New_York:20161208T130000
CATEGORIES:webinar, free
LOCATION:http://www.dealeron.com/webinar/sell-cars-advertise-facebook-
 like-boss/
WEBSITE:http://www.dealeron.com/webinar/sell-cars-advertise-facebook-l
 ike-boss/
URL:http://www.dealeron.com/webinar/sell-cars-advertise-facebook-like-
 boss/
CONTACT:
ORGANIZER;CN="Eliana Raggio":https://www.dealerelite.net/profile/Elian
 aRaggio
ATTACH;FMTTYPE="image/jpeg":http://storage.ning.com/topology/rest/1.0/
 file/get/2633027951?profile=original
ATTENDEE;ROLE=REQ-PARTICIPANT;PARTSTAT=ACCEPTED;RSVP=TRUE;CN="Eliana R
 aggio":https://www.dealerelite.net/profile/ElianaRaggio
END:VEVENT
END:VCALENDAR
