BEGIN:VCALENDAR
PRODID:NingEventWidget-v1
VERSION:2.0
METHOD:PUBLISH
BEGIN:VTIMEZONE
TZID:America/New_York
X-LIC-LOCATION:America/New_York
BEGIN:DAYLIGHT
TZOFFSETFROM:-0500
TZOFFSETTO:-0400
TZNAME:EDT
DTSTART:19700308T020000
RRULE:FREQ=YEARLY;BYMONTH=3;BYDAY=2SU
END:DAYLIGHT
BEGIN:STANDARD
TZOFFSETFROM:-0400
TZOFFSETTO:-0500
TZNAME:EST
DTSTART:19701101T020000
RRULE:FREQ=YEARLY;BYMONTH=11;BYDAY=1SU
END:STANDARD
END:VTIMEZONE
BEGIN:VEVENT
UID:5283893:Event:325054
DTSTAMP:20260423T115204Z
SUMMARY:FREE Webinar: How to Take Control of Your Marketing Strategy (
 and Drive Conversion!)
DESCRIPTION:One of the single largest challenges that Dealers continue
  to face is keeping the monthly marketing campaign clear, consistent, 
 and available. Dealerships have been marketing similar messages for ye
 ars: Discount, Low Payments, 0%, etc. in order to create a “hook” 
 or a message that will move shoppers to the showroom.\nBut the game ha
 s changed.\nOver the past several years, the shopping experience has e
 volved. Customers are spending more time researching and buying online
  then ever before, yet we continue to see a significant disconnect. Al
 though traditional messaging generally remains consistent, that messag
 e is all too often forgotten on the digital spectrum. This is where yo
 u can separate yourselves from the competition. In order to do this, y
 ou will need to put on your “customer” hat and then create that me
 ssage that motivates the shopper to move to the web. Are you there? If
  you aren’t, then this webinar is essential for your future success!
 \nPRESENTERS: Michael Donovan and Ryan DeBoom, founders of OOMDO Marke
 ting, were pioneers and leaders in the automotive industry. Michael st
 arted his career four years ago by helping to start and establish an a
 utomotive marketing company. Realizing he needed actual retail sales e
 xperience to go to the next level, Michael left the agency to work dir
 ectly for the dealership, allowing him the opportunity to work with hi
 s future business partner Ryan DeBoom. Ryan began his automotive caree
 r over 15 years ago. Working in the retail sector at a dealership, he 
 quickly worked his way through the ranks and eventually headed the dig
 ital marketing efforts for a top 50 automotive group. Ryan and Michael
  worked together for over a year managing all aspects of digital marke
 ting for an 18-franchise dealer group. Realizing that they made a powe
 rful duo, they left the retail world and started OOMDO Marketing in or
 der to bring their expertise to a larger audience. They can be reached
  at Michael@oomdo.com and Ryan@Oomdo.com respectively.\n\nFor more inf
 ormation visit https://www.dealerelite.net/events/free-webinar-how-to-
 take-control-of-your-marketing-strategy-and
DTSTART;TZID=America/New_York:20121004T120000
DTEND;TZID=America/New_York:20121004T130000
CATEGORIES:webinar, free
LOCATION:http://www.dealeron.com/webinar/events/how-to-take-control-of
 -your-marketing-strategy-and-drive-conversion/
WEBSITE:http://www.dealeron.com/webinar/events/how-to-take-control-of-
 your-marketing-strategy-and-drive-conversion/
URL:http://www.dealeron.com/webinar/events/how-to-take-control-of-your
 -marketing-strategy-and-drive-conversion/
CONTACT:
ORGANIZER;CN="Eliana Raggio":https://www.dealerelite.net/profile/Elian
 aRaggio
ATTACH;FMTTYPE="image/jpeg":http://storage.ning.com/topology/rest/1.0/
 file/get/2632957352?profile=original
ATTENDEE;ROLE=REQ-PARTICIPANT;PARTSTAT=ACCEPTED;RSVP=TRUE;CN="Eliana R
 aggio":https://www.dealerelite.net/profile/ElianaRaggio
ATTENDEE;ROLE=REQ-PARTICIPANT;PARTSTAT=TENTATIVE;RSVP=TRUE;CN="Robert 
 Harington":https://www.dealerelite.net/profile/RobertHarington
END:VEVENT
END:VCALENDAR
