BEGIN:VCALENDAR
PRODID:NingEventWidget-v1
VERSION:2.0
METHOD:PUBLISH
BEGIN:VTIMEZONE
TZID:America/New_York
X-LIC-LOCATION:America/New_York
BEGIN:DAYLIGHT
TZOFFSETFROM:-0500
TZOFFSETTO:-0400
TZNAME:EDT
DTSTART:19700308T020000
RRULE:FREQ=YEARLY;BYMONTH=3;BYDAY=2SU
END:DAYLIGHT
BEGIN:STANDARD
TZOFFSETFROM:-0400
TZOFFSETTO:-0500
TZNAME:EST
DTSTART:19701101T020000
RRULE:FREQ=YEARLY;BYMONTH=11;BYDAY=1SU
END:STANDARD
END:VTIMEZONE
BEGIN:VEVENT
UID:5283893:Event:332814
DTSTAMP:20260423T114141Z
SUMMARY:FREE Webinar: How to Take Your Dealership from GOOD to GREAT
DESCRIPTION:What do successful dealerships have in common?\nWe conduct
 ed a nationwide survey of dealerships that have gone from good to grea
 t to learn the secrets to their accomplishments: how they improved the
 ir tactics, changed their results and dominated their market. Did thei
 r websites, CRM’s, or DMS systems play a role? Maybe their SEO, SEM,
  or conversion rates were the contributing factors? Perhaps it was the
 ir overall marketing strategy, sales staff or leadership style? Did th
 ey have high CSI’s or were they high grossing?\nIn this 1 hour webin
 ar we will review all these questions and more. You will learn what su
 ccessful dealers have in common, what they did to specifically create 
 success and what a dealer can do to change their results. We will cove
 r the essentials that will help you be successful both online and off.
  You will learn how to track results, measure your growth and learn ho
 w analytics play into building a successful dealership.\nThere is no w
 ebinar out there that will answer so many questions, break apart digit
 al myths and leave you walking away feeling confident that you have th
 e ability to affect change and drive results.\nPRESENTER: April Rain a
 rrived in the digital universe after more than 9 years in retail sales
  and marketing (including Automotive and Motorsports sales and serving
  as GM for a successful retail chain), then spent 4 years as BDM for M
 innesota’s leading automotive website CarSoup. April then ran the Di
 gital Marketing department for their sister company Cuneo Advertising.
  Now as the CEO of Digital Rain she helps dealers enhance their online
  marketing, maximize resources, reduce cost of customer acquisitions, 
 increase digital presence, monetize 3rd party lead providers and creat
 e real world steps for their increased success. Her goal with dealers 
 is to strive for excellence when managing digital media process and cr
 eating significant presences with e-Commerce, Reputation Management, L
 ead Management, Social Media Strategies, Sales Analytics, Online Marke
 ting and Website Optimizations. April dares you to find her on Twitter
 , Facebook or Linked In or contact her directly at April@DigitalRainMn
 gmt.com.\n\nFor more information visit https://www.dealerelite.net/eve
 nts/free-webinar-how-to-take-your-dealership-from-good-to-great
DTSTART;TZID=America/New_York:20121108T120000
DTEND;TZID=America/New_York:20121108T130000
CATEGORIES:webinar, free
LOCATION:http://www.dealeron.com/webinar/events/how-to-take-your-deale
 rship-from-good-to-great/
WEBSITE:http://www.dealeron.com/webinar/events/how-to-take-your-dealer
 ship-from-good-to-great/
URL:http://www.dealeron.com/webinar/events/how-to-take-your-dealership
 -from-good-to-great/
CONTACT:
ORGANIZER;CN="Eliana Raggio":https://www.dealerelite.net/profile/Elian
 aRaggio
ATTACH;FMTTYPE="image/jpeg":http://storage.ning.com/topology/rest/1.0/
 file/get/2632957961?profile=original
ATTENDEE;ROLE=REQ-PARTICIPANT;PARTSTAT=ACCEPTED;RSVP=TRUE;CN="Eliana R
 aggio":https://www.dealerelite.net/profile/ElianaRaggio
END:VEVENT
END:VCALENDAR
