BEGIN:VCALENDAR
PRODID:NingEventWidget-v1
VERSION:2.0
METHOD:PUBLISH
BEGIN:VTIMEZONE
TZID:America/New_York
X-LIC-LOCATION:America/New_York
BEGIN:DAYLIGHT
TZOFFSETFROM:-0500
TZOFFSETTO:-0400
TZNAME:EDT
DTSTART:19700308T020000
RRULE:FREQ=YEARLY;BYMONTH=3;BYDAY=2SU
END:DAYLIGHT
BEGIN:STANDARD
TZOFFSETFROM:-0400
TZOFFSETTO:-0500
TZNAME:EST
DTSTART:19701101T020000
RRULE:FREQ=YEARLY;BYMONTH=11;BYDAY=1SU
END:STANDARD
END:VTIMEZONE
BEGIN:VEVENT
UID:5283893:Event:363089
DTSTAMP:20260424T015450Z
SUMMARY:FREE WEBINAR: How to Use Social Media to Dominate Page 1 on Go
 ogle
DESCRIPTION:By now, most dealers have come to realize that you can’t
  claim full control of your dealership name on Search without first ma
 stering the use of Social. Simply put, they are inseparable. And while
  social media may never produce the number of leads your website does,
  Social is still a vitally important part of any robust digital market
 ing strategy. The reality is if you want your search optimization effo
 rts to soar you absolutely must have a strong social media strategy in
  place.\nIn this free 1-hour webinar, Kate Frost, will discuss how you
 r dealership can use social media to dominate page 1 on Google. Attend
 ees will learn:\nOptimization Tips – Cover the most important freque
 ncy and content factors affecting your dealerships social media placem
 ent.\nWhat Not to Do – Learn from the mistakes of others and what yo
 ur dealership should avoid doing.\nLead Generation – How to capture 
 leads and sell cars through social media.\nEnhance your dealership’s
  social media marketing – walk away with a solid understanding of ho
 w to use Facebook, Twitter, G+, Pinterest, LinkedIn, FourSquare and Yo
 uTube to increase your dealerships online visibility.\nSo if you’re 
 sitting at the intersection of Search and Social and you want to impro
 ve both, then this is one webinar you can’t miss!\nPresenter: Kate F
 rost is the President of Kate Frost, Inc., which helps their dealershi
 p clients to improve their lead-handling processes and digital marketi
 ng. Kate has an extensive background in automotive advertising and bri
 ngs a unique insight into the automotive digital marketing realm. From
  online advertising and branding to engaging social media and web site
  enhancement, Kate helps establish and maintain dealerships digital pr
 esence. With well over a decade invested in the automotive industry, s
 he has collaborated with numerous OEMs, dealer groups and single-store
  operations both through in-store, outside sales and most recently in 
 a digital media consulting capacity. Kate is an avid traveler and she 
 can be reached at Kate@KateFrostInc.com.\n\nFor more information visit
  https://www.dealerelite.net/events/free-webinar-how-to-use-social-med
 ia-to-dominate-page-1-on-google
DTSTART;TZID=America/New_York:20130411T120000
DTEND;TZID=America/New_York:20130411T130000
CATEGORIES:webinar, free
LOCATION:http://www.dealeron.com/webinar/events/how-to-use-social-medi
 a-to-dominate-page-1-on-google/
WEBSITE:http://www.dealeron.com/webinar/events/how-to-use-social-media
 -to-dominate-page-1-on-google/
URL:http://www.dealeron.com/webinar/events/how-to-use-social-media-to-
 dominate-page-1-on-google/
CONTACT:
ORGANIZER;CN="Eliana Raggio":https://www.dealerelite.net/profile/Elian
 aRaggio
ATTACH;FMTTYPE="image/jpeg":http://storage.ning.com/topology/rest/1.0/
 file/get/2632971771?profile=original
ATTENDEE;ROLE=REQ-PARTICIPANT;PARTSTAT=ACCEPTED;RSVP=TRUE;CN="Eliana R
 aggio":https://www.dealerelite.net/profile/ElianaRaggio
END:VEVENT
END:VCALENDAR
